BEGIN:VCALENDAR
VERSION:2.0
PRODID:-//Morris County Ski Club - ECPv6.15.20//NONSGML v1.0//EN
CALSCALE:GREGORIAN
METHOD:PUBLISH
X-WR-CALNAME:Morris County Ski Club
X-ORIGINAL-URL:https://morriscountyskiclub.com
X-WR-CALDESC:Events for Morris County Ski Club
REFRESH-INTERVAL;VALUE=DURATION:PT1H
X-Robots-Tag:noindex
X-PUBLISHED-TTL:PT1H
BEGIN:VTIMEZONE
TZID:America/New_York
BEGIN:DAYLIGHT
TZOFFSETFROM:-0500
TZOFFSETTO:-0400
TZNAME:EDT
DTSTART:20230312T070000
END:DAYLIGHT
BEGIN:STANDARD
TZOFFSETFROM:-0400
TZOFFSETTO:-0500
TZNAME:EST
DTSTART:20231105T060000
END:STANDARD
BEGIN:DAYLIGHT
TZOFFSETFROM:-0500
TZOFFSETTO:-0400
TZNAME:EDT
DTSTART:20240310T070000
END:DAYLIGHT
BEGIN:STANDARD
TZOFFSETFROM:-0400
TZOFFSETTO:-0500
TZNAME:EST
DTSTART:20241103T060000
END:STANDARD
BEGIN:DAYLIGHT
TZOFFSETFROM:-0500
TZOFFSETTO:-0400
TZNAME:EDT
DTSTART:20250309T070000
END:DAYLIGHT
BEGIN:STANDARD
TZOFFSETFROM:-0400
TZOFFSETTO:-0500
TZNAME:EST
DTSTART:20251102T060000
END:STANDARD
END:VTIMEZONE
BEGIN:VEVENT
DTSTART;TZID=America/New_York:20240815T130000
DTEND;TZID=America/New_York:20240815T160000
DTSTAMP:20260423T063746
CREATED:20240905T071454Z
LAST-MODIFIED:20240905T074011Z
UID:2394-1723726800-1723737600@morriscountyskiclub.com
SUMMARY:AAF Redstone Bridgewater NJ
DESCRIPTION:MCSC_AAF-2024-August-RedstoneTavern \nMORRIS COUNTY SKI CLUB \nAUGUST “AAF” / HAPPY HOUR \nREDSTONE TAVERN \n400 Commons Way Suite 140• Bridgewater\, New Jersey 08807 \n908-685-1333 \nhttps://www.redstonegrill.com/bridgewater/menus/happy-hour-bridgewater-nj/ \nJoin MCSC friends for fun and refreshment at Redstone (bar area) on \nThursday\, August 15\, 2024!  \nRedstone offers Happy Hour from 3-6 with drink and food discounts. Please see website for details. There is no set time for our AAF so please join us as soon as you can that evening. \nWe look forward to seeing you there! \n 
URL:https://morriscountyskiclub.com/event/aaf-redstone-bridgewater-nj/
LOCATION:Redstone Grill\, 400 Commons Way\,\, Bridgewater\, NJ\, NJ\, 08807\, United States
CATEGORIES:AAF Alive After 5 Social
ORGANIZER;CN="Lisa Margolis":MAILTO:LisaSLP@aol.com
END:VEVENT
END:VCALENDAR