BEGIN:VCALENDAR
VERSION:2.0
PRODID:-//Morris County Ski Club - ECPv6.15.20//NONSGML v1.0//EN
CALSCALE:GREGORIAN
METHOD:PUBLISH
X-WR-CALNAME:Morris County Ski Club
X-ORIGINAL-URL:https://morriscountyskiclub.com
X-WR-CALDESC:Events for Morris County Ski Club
REFRESH-INTERVAL;VALUE=DURATION:PT1H
X-Robots-Tag:noindex
X-PUBLISHED-TTL:PT1H
BEGIN:VTIMEZONE
TZID:America/New_York
BEGIN:DAYLIGHT
TZOFFSETFROM:-0500
TZOFFSETTO:-0400
TZNAME:EDT
DTSTART:20230312T070000
END:DAYLIGHT
BEGIN:STANDARD
TZOFFSETFROM:-0400
TZOFFSETTO:-0500
TZNAME:EST
DTSTART:20231105T060000
END:STANDARD
BEGIN:DAYLIGHT
TZOFFSETFROM:-0500
TZOFFSETTO:-0400
TZNAME:EDT
DTSTART:20240310T070000
END:DAYLIGHT
BEGIN:STANDARD
TZOFFSETFROM:-0400
TZOFFSETTO:-0500
TZNAME:EST
DTSTART:20241103T060000
END:STANDARD
BEGIN:DAYLIGHT
TZOFFSETFROM:-0500
TZOFFSETTO:-0400
TZNAME:EDT
DTSTART:20250309T070000
END:DAYLIGHT
BEGIN:STANDARD
TZOFFSETFROM:-0400
TZOFFSETTO:-0500
TZNAME:EST
DTSTART:20251102T060000
END:STANDARD
END:VTIMEZONE
BEGIN:VEVENT
DTSTART;TZID=America/New_York:20240920T170000
DTEND;TZID=America/New_York:20240920T220000
DTSTAMP:20260423T050350
CREATED:20240919T233352Z
LAST-MODIFIED:20240930T174522Z
UID:2528-1726851600-1726869600@morriscountyskiclub.com
SUMMARY:AAF at McLoone's Boathouse in West Orange
DESCRIPTION:Please come join us for a fun filled night on Friday\, September 20\, 2024 at McLoone’s Boathouse. \nThere’s no set time for the happy hour so please join us as soon as you can that evening! \nMcLoone’s offers happy hour from 3:30-6:00 with discounted drinks and appetizers available at the bar and cocktail areas. The outdoor patio will be open weather permitting. A full dinner menu is available for those who wish to dine there. \n“Located within the South Mountain Recreation Complex\, McLoone’s Boathouse sits on the banks of the reservoir\, showcasing spectacular views to our customers.” \nWe look forward to seeing you there! \nPlease contact Lisa Margolis at LisaSLP@aol.com with any questions/concerns. \nDirections can be found on the McLoone’s Website \n 
URL:https://morriscountyskiclub.com/event/aaf-at-mcloones-boathouse-in-west-orange/
LOCATION:McLoone’s Boathouse\, 9 Cherry Lane\, West Orange\, NJ\, 07052\, United States
CATEGORIES:AAF Alive After 5 Social
ORGANIZER;CN="Lisa Margolis":MAILTO:LisaSLP@aol.com
END:VEVENT
END:VCALENDAR