BEGIN:VCALENDAR
VERSION:2.0
PRODID:-//Morris County Ski Club - ECPv6.15.20//NONSGML v1.0//EN
CALSCALE:GREGORIAN
METHOD:PUBLISH
X-WR-CALNAME:Morris County Ski Club
X-ORIGINAL-URL:https://morriscountyskiclub.com
X-WR-CALDESC:Events for Morris County Ski Club
REFRESH-INTERVAL;VALUE=DURATION:PT1H
X-Robots-Tag:noindex
X-PUBLISHED-TTL:PT1H
BEGIN:VTIMEZONE
TZID:America/New_York
BEGIN:DAYLIGHT
TZOFFSETFROM:-0500
TZOFFSETTO:-0400
TZNAME:EDT
DTSTART:20230312T070000
END:DAYLIGHT
BEGIN:STANDARD
TZOFFSETFROM:-0400
TZOFFSETTO:-0500
TZNAME:EST
DTSTART:20231105T060000
END:STANDARD
BEGIN:DAYLIGHT
TZOFFSETFROM:-0500
TZOFFSETTO:-0400
TZNAME:EDT
DTSTART:20240310T070000
END:DAYLIGHT
BEGIN:STANDARD
TZOFFSETFROM:-0400
TZOFFSETTO:-0500
TZNAME:EST
DTSTART:20241103T060000
END:STANDARD
BEGIN:DAYLIGHT
TZOFFSETFROM:-0500
TZOFFSETTO:-0400
TZNAME:EDT
DTSTART:20250309T070000
END:DAYLIGHT
BEGIN:STANDARD
TZOFFSETFROM:-0400
TZOFFSETTO:-0500
TZNAME:EST
DTSTART:20251102T060000
END:STANDARD
END:VTIMEZONE
BEGIN:VEVENT
DTSTART;TZID=America/New_York:20241114T170000
DTEND;TZID=America/New_York:20241114T210000
DTSTAMP:20260423T015417
CREATED:20241103T232215Z
LAST-MODIFIED:20241115T193723Z
UID:2788-1731603600-1731618000@morriscountyskiclub.com
SUMMARY:AAF  - BURNT MILLS CIDER - BEDMINSTER
DESCRIPTION:MORRIS COUNTY SKI CLUB\nNOVEMBER AAF / HAPPY HOUR\nThursday\, November 14\,  2024\nBURNT MILLS CIDER COMPANY \n3540 RTE. 206\nBEDMINSTER\, NJ 07921\nPhone: (908) 781-6000\nwww.burntmillscider.com \nPlease join us on Thursday\, November 14th\, 2024 at Burnt Mills Cider Company for a fun-filled evening. Burnt Mills Cider is Somerset county’s only hard cidery! They offer multiple varieties from Dry Sparkling\, Fall Spice\, Jersey Blue\, Jersey Maple Bourbon\, Lavender Haze and more! If you’ve never had hard cider\, this is a great opportunity! \nA Mexican food truck is scheduled to be there that evening in case anyone is hungry while enjoying their cider! \nWe look forward to seeing you there! \nDirections \nFrom 287 – Going South\nTake I-287 South to US-202N/US-206N in Bedminster. Take Exit 22 and drive north on 206 to the cidery.\nFrom 287 – Going North\nTake I-287 North to US-202N/US-206N in Bedminster. Take Exit 22B to merge onto US 202N/206N toward\nMorristown/Netcong. Drive north on 206 to the cidery.
URL:https://morriscountyskiclub.com/event/aaf-burnt-mills-cider-bedminster/
LOCATION:Burnt Mills Cider\, 3540 Rt 206N\, Bedminster\, NJ\, 07921\, United States
CATEGORIES:AAF Alive After 5 Social
ORGANIZER;CN="Lisa Margolis":MAILTO:LisaSLP@aol.com
END:VEVENT
END:VCALENDAR