BEGIN:VCALENDAR
VERSION:2.0
PRODID:-//Morris County Ski Club - ECPv6.15.20//NONSGML v1.0//EN
CALSCALE:GREGORIAN
METHOD:PUBLISH
X-WR-CALNAME:Morris County Ski Club
X-ORIGINAL-URL:https://morriscountyskiclub.com
X-WR-CALDESC:Events for Morris County Ski Club
REFRESH-INTERVAL;VALUE=DURATION:PT1H
X-Robots-Tag:noindex
X-PUBLISHED-TTL:PT1H
BEGIN:VTIMEZONE
TZID:America/New_York
BEGIN:DAYLIGHT
TZOFFSETFROM:-0500
TZOFFSETTO:-0400
TZNAME:EDT
DTSTART:20240310T070000
END:DAYLIGHT
BEGIN:STANDARD
TZOFFSETFROM:-0400
TZOFFSETTO:-0500
TZNAME:EST
DTSTART:20241103T060000
END:STANDARD
BEGIN:DAYLIGHT
TZOFFSETFROM:-0500
TZOFFSETTO:-0400
TZNAME:EDT
DTSTART:20250309T070000
END:DAYLIGHT
BEGIN:STANDARD
TZOFFSETFROM:-0400
TZOFFSETTO:-0500
TZNAME:EST
DTSTART:20251102T060000
END:STANDARD
BEGIN:DAYLIGHT
TZOFFSETFROM:-0500
TZOFFSETTO:-0400
TZNAME:EDT
DTSTART:20260308T070000
END:DAYLIGHT
BEGIN:STANDARD
TZOFFSETFROM:-0400
TZOFFSETTO:-0500
TZNAME:EST
DTSTART:20261101T060000
END:STANDARD
END:VTIMEZONE
BEGIN:VEVENT
DTSTART;TZID=America/New_York:20250417T170000
DTEND;TZID=America/New_York:20250417T210000
DTSTAMP:20260422T184319
CREATED:20250409T184251Z
LAST-MODIFIED:20250409T184251Z
UID:3031-1744909200-1744923600@morriscountyskiclub.com
SUMMARY:April AAF - Red Oak Grill in Basking Ridge   Thursday 4/17
DESCRIPTION:MORRIS COUNTY SKI CLUB \nAPRIL “AAF”/ HAPPY HOUR  \nRed Oak Grille \n@ NJ National Golf Club \n579 Allen Road \nBasking Ridge\, New Jersey 07920  \n908-781-9400\, x2 \nPlease join us on Thursday\, April 17\, 2025 at the Red Oak Grille! \nThere’s no set time for the happy hour so please join us as soon as you can that evening!  The Red Oak Grille is just re-opening for the season so let’s return for a visit and cheer for the spring!   \nPlease note: the kitchen closes promptly at 7:30 pm (get your food orders in before then) and last call for alcohol is about 8:30 pm. \nWe look forward to seeing you there 😊  \nPlease contact Lisa at LisaSLP@aol.com with any questions/concerns.
URL:https://morriscountyskiclub.com/event/april-aaf-red-oak-grill-in-basking-ridge-thursday-4-17/
LOCATION:Red Oak Grill\, 579 Allen Rd\, Basking Ridge\, NJ\, 07920
CATEGORIES:AAF Alive After 5 Social
ORGANIZER;CN="Lisa Margolis":MAILTO:LisaSLP@aol.com
END:VEVENT
END:VCALENDAR