BEGIN:VCALENDAR
VERSION:2.0
PRODID:-//Morris County Ski Club - ECPv6.15.20//NONSGML v1.0//EN
CALSCALE:GREGORIAN
METHOD:PUBLISH
X-ORIGINAL-URL:https://morriscountyskiclub.com
X-WR-CALDESC:Events for Morris County Ski Club
REFRESH-INTERVAL;VALUE=DURATION:PT1H
X-Robots-Tag:noindex
X-PUBLISHED-TTL:PT1H
BEGIN:VTIMEZONE
TZID:America/New_York
BEGIN:DAYLIGHT
TZOFFSETFROM:-0500
TZOFFSETTO:-0400
TZNAME:EDT
DTSTART:20240310T070000
END:DAYLIGHT
BEGIN:STANDARD
TZOFFSETFROM:-0400
TZOFFSETTO:-0500
TZNAME:EST
DTSTART:20241103T060000
END:STANDARD
BEGIN:DAYLIGHT
TZOFFSETFROM:-0500
TZOFFSETTO:-0400
TZNAME:EDT
DTSTART:20250309T070000
END:DAYLIGHT
BEGIN:STANDARD
TZOFFSETFROM:-0400
TZOFFSETTO:-0500
TZNAME:EST
DTSTART:20251102T060000
END:STANDARD
BEGIN:DAYLIGHT
TZOFFSETFROM:-0500
TZOFFSETTO:-0400
TZNAME:EDT
DTSTART:20260308T070000
END:DAYLIGHT
BEGIN:STANDARD
TZOFFSETFROM:-0400
TZOFFSETTO:-0500
TZNAME:EST
DTSTART:20261101T060000
END:STANDARD
END:VTIMEZONE
BEGIN:VEVENT
DTSTART;TZID=America/New_York:20251023T170000
DTEND;TZID=America/New_York:20251023T220000
DTSTAMP:20260422T090509
CREATED:20250908T104930Z
LAST-MODIFIED:20250908T104930Z
UID:3284-1761238800-1761256800@morriscountyskiclub.com
SUMMARY:OCTOBER AAF - Stirling Hotel
DESCRIPTION:MORRIS COUNTY SKI CLUB \nOCTOBER “AAF”/ HAPPY HOUR  \nThe Stirling Hotel / Smokehouse Beer Garden \n227 Main Avenue \nStirling\, New Jersey 07980 \n908-647-6919 \nPlease join us on Thursday\, October 23\, 2025 at The Striling Hotel! We will meet at the bar near the tent (weather permitting). There are heaters to keep you warm and toasty! Enjoy some schmoozies and boozies with old and new friends! If it rains\, we can go to the inside bar.  \nThere’s no set time for the happy hour so please join us as soon as you can that evening!  However\, the inside bar does offer Happy Hour from 3-5. You can enjoy something to eat at the Smokehouse or at The Stirling Hotel. \n“For over forty years\, we at The Stirling Hotel have welcomed guests for warm plates of thoughtfully crafted comfort food and fresh seasonal creations. We have encouraged you to wash it all down with a tall glass of craft beer from our ever-changing collection of both local brews and hard-to-source limited releases. We have shaken\, stirred\, and mixed you the libations that have been around since our inception as well as new and innovative cocktails from the brilliant minds of our bartenders. We have poured your glasses of bold fruity red wines\, crisp refreshing whites\, and celebratory bubbles.” \n  \nWe look forward to seeing you there 😊  \nPlease contact Lisa at LisaSLP@aol.com with any questions/concerns.
URL:https://morriscountyskiclub.com/event/october-aaf-stirling-hotel/
LOCATION:Stirling Hotel\, 227 Main Avenue\, Stirling\, NJ\, 07980\, United States
CATEGORIES:AAF Alive After 5 Social
ORGANIZER;CN="Lisa Margolis":MAILTO:LisaSLP@aol.com
END:VEVENT
END:VCALENDAR