BEGIN:VCALENDAR
VERSION:2.0
PRODID:-//Morris County Ski Club - ECPv6.15.20//NONSGML v1.0//EN
CALSCALE:GREGORIAN
METHOD:PUBLISH
X-WR-CALNAME:Morris County Ski Club
X-ORIGINAL-URL:https://morriscountyskiclub.com
X-WR-CALDESC:Events for Morris County Ski Club
REFRESH-INTERVAL;VALUE=DURATION:PT1H
X-Robots-Tag:noindex
X-PUBLISHED-TTL:PT1H
BEGIN:VTIMEZONE
TZID:America/New_York
BEGIN:DAYLIGHT
TZOFFSETFROM:-0500
TZOFFSETTO:-0400
TZNAME:EDT
DTSTART:20240310T070000
END:DAYLIGHT
BEGIN:STANDARD
TZOFFSETFROM:-0400
TZOFFSETTO:-0500
TZNAME:EST
DTSTART:20241103T060000
END:STANDARD
BEGIN:DAYLIGHT
TZOFFSETFROM:-0500
TZOFFSETTO:-0400
TZNAME:EDT
DTSTART:20250309T070000
END:DAYLIGHT
BEGIN:STANDARD
TZOFFSETFROM:-0400
TZOFFSETTO:-0500
TZNAME:EST
DTSTART:20251102T060000
END:STANDARD
BEGIN:DAYLIGHT
TZOFFSETFROM:-0500
TZOFFSETTO:-0400
TZNAME:EDT
DTSTART:20260308T070000
END:DAYLIGHT
BEGIN:STANDARD
TZOFFSETFROM:-0400
TZOFFSETTO:-0500
TZNAME:EST
DTSTART:20261101T060000
END:STANDARD
END:VTIMEZONE
BEGIN:VEVENT
DTSTART;TZID=America/New_York:20250130T170000
DTEND;TZID=America/New_York:20250130T220000
DTSTAMP:20260422T225502
CREATED:20250103T143316Z
LAST-MODIFIED:20250103T143316Z
UID:2920-1738256400-1738274400@morriscountyskiclub.com
SUMMARY:AAF Iron Bar Morristown\, Thursday 1/30/25
DESCRIPTION:MORRIS COUNTY SKI CLUB \nJANUARY “AAF” / HAPPY HOUR \nIRON BAR \n5 South Street • Morristown\, New Jersey 07960 \n973.455.7111\nwww.ironbarmorristown.com \nJoin MCSC friends for fun and refreshment at Iron Bar on \nThursday\, January 30\, 2025! \nThere’s no set time for the happy hour so please join us as soon as you \ncan that evening!\nWe look forward to seeing you there! \nIron Bar is known for “North Jersey’s longest bar\, soaring ceilings\,\ngreat music\, large screen TVs\, creative cocktails\, great food\, and \nservice” \nContact Lisa Margolis (lisaslp@aol.com) with any questions/concerns.\nFrom Rt.287 South: Take Madison Avenue Exit 35 and bear right at the end of the\nexit. Make a right at the light onto South Street. Go thru 3 lights and Iron Bar is on the\nleft.\nFrom Rt.287 North: Take Madison Avenue Exit 35 and bear left at the end of the exit\nonto South Street. Go thru 3 lights and Iron Bar is on the left.\nParking: There is on-street parking (if you are lucky) with meters as well as the Dehart\nStreet Parking Complex which is on Dehart Street (one way street) behind Iron Bar. The\nIron Bar has back door accessibility from the parking garage There is also a parking\nlot across from the parking complex on Dehart Street which is available after banking\nhours (though it gets full quickly).
URL:https://morriscountyskiclub.com/event/aaf-iron-bar-morristown-thursday-1-30-25/
LOCATION:Iron Bar\, 5 South Street\, Morristown\, NJ\, 07960
CATEGORIES:AAF Alive After 5 Social
ORGANIZER;CN="Lisa Margolis":MAILTO:LisaSLP@aol.com
END:VEVENT
END:VCALENDAR