BEGIN:VCALENDAR
VERSION:2.0
PRODID:-//Morris County Ski Club - ECPv6.15.20//NONSGML v1.0//EN
CALSCALE:GREGORIAN
METHOD:PUBLISH
X-WR-CALNAME:Morris County Ski Club
X-ORIGINAL-URL:https://morriscountyskiclub.com
X-WR-CALDESC:Events for Morris County Ski Club
REFRESH-INTERVAL;VALUE=DURATION:PT1H
X-Robots-Tag:noindex
X-PUBLISHED-TTL:PT1H
BEGIN:VTIMEZONE
TZID:America/New_York
BEGIN:DAYLIGHT
TZOFFSETFROM:-0500
TZOFFSETTO:-0400
TZNAME:EDT
DTSTART:20240310T070000
END:DAYLIGHT
BEGIN:STANDARD
TZOFFSETFROM:-0400
TZOFFSETTO:-0500
TZNAME:EST
DTSTART:20241103T060000
END:STANDARD
BEGIN:DAYLIGHT
TZOFFSETFROM:-0500
TZOFFSETTO:-0400
TZNAME:EDT
DTSTART:20250309T070000
END:DAYLIGHT
BEGIN:STANDARD
TZOFFSETFROM:-0400
TZOFFSETTO:-0500
TZNAME:EST
DTSTART:20251102T060000
END:STANDARD
BEGIN:DAYLIGHT
TZOFFSETFROM:-0500
TZOFFSETTO:-0400
TZNAME:EDT
DTSTART:20260308T070000
END:DAYLIGHT
BEGIN:STANDARD
TZOFFSETFROM:-0400
TZOFFSETTO:-0500
TZNAME:EST
DTSTART:20261101T060000
END:STANDARD
END:VTIMEZONE
BEGIN:VEVENT
DTSTART;TZID=America/New_York:20250515T180000
DTEND;TZID=America/New_York:20250515T220000
DTSTAMP:20260422T184714
CREATED:20250507T002925Z
LAST-MODIFIED:20250507T002925Z
UID:3039-1747332000-1747346400@morriscountyskiclub.com
SUMMARY:May AAF - Happy Hour - Miller's Ale House\, Parsippany
DESCRIPTION:MAY “AAF”/ HAPPY HOUR\nMiller’s Ale House\n1721 Route 10\nParsippany\, New Jersey 07054\n973-363-4057 \nPlease join us on Thursday\, May 15\, 2025 at the Miller’s Ale House! \nThere’s no set time for the happy hour so please join us as soon as you can that evening!\n“Welcome to Miller’s Ale House – Parsippany\, where great food\, sports\, and unforgettable moments come together! We’re a local restaurant and sports bar located off Route 10 and Littleton Road. We are conveniently located in front of Briarcliff Trail.” \nWe look forward to seeing you there 😊 \nPlease contact Lisa at LisaSLP@aol.com with any questions/concerns. \n 
URL:https://morriscountyskiclub.com/event/may-aaf-happy-hour-millers-ale-house-parsippany/
LOCATION:Miller’s Ale House\, 1721 Route 10\, Parsippany\, New Jersey\, 07054
CATEGORIES:AAF Alive After 5 Social
ORGANIZER;CN="Lisa Margolis":MAILTO:LisaSLP@aol.com
END:VEVENT
END:VCALENDAR