BEGIN:VCALENDAR
VERSION:2.0
PRODID:-//Morris County Ski Club - ECPv6.15.20//NONSGML v1.0//EN
CALSCALE:GREGORIAN
METHOD:PUBLISH
X-ORIGINAL-URL:https://morriscountyskiclub.com
X-WR-CALDESC:Events for Morris County Ski Club
REFRESH-INTERVAL;VALUE=DURATION:PT1H
X-Robots-Tag:noindex
X-PUBLISHED-TTL:PT1H
BEGIN:VTIMEZONE
TZID:America/New_York
BEGIN:DAYLIGHT
TZOFFSETFROM:-0500
TZOFFSETTO:-0400
TZNAME:EDT
DTSTART:20240310T070000
END:DAYLIGHT
BEGIN:STANDARD
TZOFFSETFROM:-0400
TZOFFSETTO:-0500
TZNAME:EST
DTSTART:20241103T060000
END:STANDARD
BEGIN:DAYLIGHT
TZOFFSETFROM:-0500
TZOFFSETTO:-0400
TZNAME:EDT
DTSTART:20250309T070000
END:DAYLIGHT
BEGIN:STANDARD
TZOFFSETFROM:-0400
TZOFFSETTO:-0500
TZNAME:EST
DTSTART:20251102T060000
END:STANDARD
BEGIN:DAYLIGHT
TZOFFSETFROM:-0500
TZOFFSETTO:-0400
TZNAME:EDT
DTSTART:20260308T070000
END:DAYLIGHT
BEGIN:STANDARD
TZOFFSETFROM:-0400
TZOFFSETTO:-0500
TZNAME:EST
DTSTART:20261101T060000
END:STANDARD
END:VTIMEZONE
BEGIN:VEVENT
DTSTART;TZID=America/New_York:20250626T170000
DTEND;TZID=America/New_York:20250626T220000
DTSTAMP:20260422T171458
CREATED:20250610T110905Z
LAST-MODIFIED:20250610T110905Z
UID:3081-1750957200-1750975200@morriscountyskiclub.com
SUMMARY:AAF Green Knoll Grill\, Thursday 6/26
DESCRIPTION:MORRIS COUNTY SKI CLUB \nJUNE “AAF”/ HAPPY HOUR \nTHE GREEN KNOLL GRILL \n645 RTE. 202/206 \nBRIDGEWATER\, NJ 08807 \nPhone: (908) 526-7090 \nwww.greenknollgrill.com \nPlease join us on Thursday\, June 26\, 2025 at The Green Knoll Grill for a fun-filled evening outdoors on “New Jersey’s Best Patio”!  The GKG is known for good times\, good food and good friends\, so let the good times roll! For those interested\, there is a full menu with appetizers\, sandwiches\, burgers\, entrees and more! \nWe look forward to seeing you there! ☺ \nPlease contact Lisa Margolis at lisaslp@aol.com with any questions/concerns. \nDirections \n287 South \nMerge onto US 202/206 via Exit 17 on the left toward US 22 W – Somerville/Flemington.  Take Commons Way exit toward Garretson Road.   \nMake Left onto Commons Way \nMerge onto US 202N/206N toward I-287 N / Morristown / Netcong \nGreen Knoll Grill is on your Left \n287 North \nMerge onto US 22W via exit 14 B on the left toward US 202/Clinton/US 206 \nContinue to follow US 22W (1.8 miles) \nMerge onto US 202N/206N toward I-287 N / Morristown / Netcong \nTake left fork onto US 202/206N \nContinue to follow US 202N (1.0 mile) \nGreen Knoll Grill is on your left
URL:https://morriscountyskiclub.com/event/aaf-green-knoll-grill-thursday-6-26/
LOCATION:THE GREEN KNOLL GRILLE\, 645 RT 202/206\, BRIDGEWATER\, NJ\, 08807\, United States
CATEGORIES:AAF Alive After 5 Social
ORGANIZER;CN="Lisa Margolis":MAILTO:LisaSLP@aol.com
END:VEVENT
END:VCALENDAR