BEGIN:VCALENDAR
VERSION:2.0
PRODID:-//Morris County Ski Club - ECPv6.15.20//NONSGML v1.0//EN
CALSCALE:GREGORIAN
METHOD:PUBLISH
X-WR-CALNAME:Morris County Ski Club
X-ORIGINAL-URL:https://morriscountyskiclub.com
X-WR-CALDESC:Events for Morris County Ski Club
REFRESH-INTERVAL;VALUE=DURATION:PT1H
X-Robots-Tag:noindex
X-PUBLISHED-TTL:PT1H
BEGIN:VTIMEZONE
TZID:America/New_York
BEGIN:DAYLIGHT
TZOFFSETFROM:-0500
TZOFFSETTO:-0400
TZNAME:EDT
DTSTART:20240310T070000
END:DAYLIGHT
BEGIN:STANDARD
TZOFFSETFROM:-0400
TZOFFSETTO:-0500
TZNAME:EST
DTSTART:20241103T060000
END:STANDARD
BEGIN:DAYLIGHT
TZOFFSETFROM:-0500
TZOFFSETTO:-0400
TZNAME:EDT
DTSTART:20250309T070000
END:DAYLIGHT
BEGIN:STANDARD
TZOFFSETFROM:-0400
TZOFFSETTO:-0500
TZNAME:EST
DTSTART:20251102T060000
END:STANDARD
BEGIN:DAYLIGHT
TZOFFSETFROM:-0500
TZOFFSETTO:-0400
TZNAME:EDT
DTSTART:20260308T070000
END:DAYLIGHT
BEGIN:STANDARD
TZOFFSETFROM:-0400
TZOFFSETTO:-0500
TZNAME:EST
DTSTART:20261101T060000
END:STANDARD
END:VTIMEZONE
BEGIN:VEVENT
DTSTART;TZID=America/New_York:20251212T180000
DTEND;TZID=America/New_York:20251212T220000
DTSTAMP:20260422T074928
CREATED:20251117T011014Z
LAST-MODIFIED:20251119T131929Z
UID:3387-1765562400-1765576800@morriscountyskiclub.com
SUMMARY:HOLIDAY AAF - GREEN KNOLL GRILL
DESCRIPTION:MCSC    HOLIDAY AAF \n  \n                                FRIDAY\, DECEMBER 12\, 2025 \n                               6:00 pm – 10:00 pm                                   \n  \n                                   THE GREEN KNOLL GRILL \n645 RTE. 202/206 \nBRIDGEWATER\, NJ 08807 \nPhone: (908) 526-7090 \nwww.greenknollgrill.com              \nLet’s take a break from our hectic schedules to wish  \neach other a very happy and healthy holiday season! \nPlease join us for a festive evening with MCSC friends and guests! \nGKG has a cash bar and a great bar food menu. \nTo help spread holiday spirit\, we’ll greatly appreciate if you would bring a new\, unwrapped gift for a Teen to help support Toys for Teens – this will be the only night we will be collecting gifts.  Or if you prefer to donate $\, go to https://www.toysfortots.org/donate-today/ \nDon’t forget to use your company matching gifts program to increase your donation. Our thanks in advance for your generosity! \nWe look forward to seeing you there!   \nContact Gina Maroney glmaroney29@gmail.com with any questions.
URL:https://morriscountyskiclub.com/event/holiday-aaf-green-knoll-grill/
LOCATION:Green Knoll Grille\, Bridgewater\, NJ\, United States
CATEGORIES:AAF Alive After 5 Social
ORGANIZER;CN="Lisa Margolis":MAILTO:LisaSLP@aol.com
END:VEVENT
END:VCALENDAR