BEGIN:VCALENDAR
VERSION:2.0
PRODID:-//Morris County Ski Club - ECPv6.15.20//NONSGML v1.0//EN
CALSCALE:GREGORIAN
METHOD:PUBLISH
X-WR-CALNAME:Morris County Ski Club
X-ORIGINAL-URL:https://morriscountyskiclub.com
X-WR-CALDESC:Events for Morris County Ski Club
REFRESH-INTERVAL;VALUE=DURATION:PT1H
X-Robots-Tag:noindex
X-PUBLISHED-TTL:PT1H
BEGIN:VTIMEZONE
TZID:America/New_York
BEGIN:DAYLIGHT
TZOFFSETFROM:-0500
TZOFFSETTO:-0400
TZNAME:EDT
DTSTART:20240310T070000
END:DAYLIGHT
BEGIN:STANDARD
TZOFFSETFROM:-0400
TZOFFSETTO:-0500
TZNAME:EST
DTSTART:20241103T060000
END:STANDARD
BEGIN:DAYLIGHT
TZOFFSETFROM:-0500
TZOFFSETTO:-0400
TZNAME:EDT
DTSTART:20250309T070000
END:DAYLIGHT
BEGIN:STANDARD
TZOFFSETFROM:-0400
TZOFFSETTO:-0500
TZNAME:EST
DTSTART:20251102T060000
END:STANDARD
BEGIN:DAYLIGHT
TZOFFSETFROM:-0500
TZOFFSETTO:-0400
TZNAME:EDT
DTSTART:20260308T070000
END:DAYLIGHT
BEGIN:STANDARD
TZOFFSETFROM:-0400
TZOFFSETTO:-0500
TZNAME:EST
DTSTART:20261101T060000
END:STANDARD
BEGIN:DAYLIGHT
TZOFFSETFROM:-0500
TZOFFSETTO:-0400
TZNAME:EDT
DTSTART:20270314T070000
END:DAYLIGHT
BEGIN:STANDARD
TZOFFSETFROM:-0400
TZOFFSETTO:-0500
TZNAME:EST
DTSTART:20271107T060000
END:STANDARD
END:VTIMEZONE
BEGIN:VEVENT
DTSTART;TZID=America/New_York:20251112T170000
DTEND;TZID=America/New_York:20251112T190000
DTSTAMP:20260423T063549
CREATED:20251105T171041Z
LAST-MODIFIED:20251105T171041Z
UID:3359-1762966800-1762974000@morriscountyskiclub.com
SUMMARY:NJSSC NOVEMBER HAPPY HOUR MEET UP
DESCRIPTION:Wednesday\, November 12 \n5pm to 7pm\n22 West Tap & Grill\n11601 US Highway 22\nBound Brook\, NJ \n  \nwww.njssc.org
URL:https://morriscountyskiclub.com/event/njssc-november-happy-hour-meet-up/
LOCATION:22 West Tap and Grill\, 11601 US 22\, Bound Brook\, New Jersey
CATEGORIES:AAF Alive After 5 Social
END:VEVENT
BEGIN:VEVENT
DTSTART;TZID=America/New_York:20251120T170000
DTEND;TZID=America/New_York:20251120T220000
DTSTAMP:20260423T063549
CREATED:20251022T190538Z
LAST-MODIFIED:20251022T190538Z
UID:3352-1763658000-1763676000@morriscountyskiclub.com
SUMMARY:November AAF Happy Hour - Burnt Mills Cider Company
DESCRIPTION:BURNT MILLS CIDER COMPANY \n3540 RTE. 206 \nBEDMINSTER\, NJ 07921 \nPhone: (908) 781-6000 \nwww.burntmillscider.com \n  \nPlease join us on Thursday\, November 20th\, 2025 at Burnt Mills Cider Company for a fun-filled evening with MCSC friends at Somerset county’s only hard cidery! The cidery offers multiple varietals from Dry Sparkling\, Fall Spice\, General George\, The Hunt\, Lavender Haze and more!  If you’ve never had hard cider\, this is a great opportunity! Tesso Pizza food truck is scheduled to be there that evening in case anyone is hungry while enjoying their cider!  \nThere’s no set time for the happy hour so please join us as soon as you can that evening!   \n  \nWe look forward to seeing you there! ☺ \nPlease contact Lisa at LisaSLP@aol.com with any questions/concerns. \n  \nDirections \n  \nFrom 287 – Going South \nTake I-287 South to US-202N/US-206N in Bedminster.  Take Exit 22 and drive north on 206 to the cidery. \n  \nFrom 287 – Going North \nTake I-287 North to US-202N/US-206N in Bedminster.  Take Exit 22B to merge onto US 202N/206N toward Morristown/Netcong.  Drive north on 206 to the cidery.
URL:https://morriscountyskiclub.com/event/november-aaf-happy-hour-burnt-mills-cider-company/
LOCATION:Burnt Mills Cider\, 3540 Rt 206N\, Bedminster\, NJ\, 07921\, United States
CATEGORIES:AAF Alive After 5 Social
ORGANIZER;CN="Lisa Margolis":MAILTO:LisaSLP@aol.com
END:VEVENT
BEGIN:VEVENT
DTSTART;TZID=America/New_York:20251212T180000
DTEND;TZID=America/New_York:20251212T220000
DTSTAMP:20260423T063549
CREATED:20251117T011014Z
LAST-MODIFIED:20251119T131929Z
UID:3387-1765562400-1765576800@morriscountyskiclub.com
SUMMARY:HOLIDAY AAF - GREEN KNOLL GRILL
DESCRIPTION:MCSC    HOLIDAY AAF \n  \n                                FRIDAY\, DECEMBER 12\, 2025 \n                               6:00 pm – 10:00 pm                                   \n  \n                                   THE GREEN KNOLL GRILL \n645 RTE. 202/206 \nBRIDGEWATER\, NJ 08807 \nPhone: (908) 526-7090 \nwww.greenknollgrill.com              \nLet’s take a break from our hectic schedules to wish  \neach other a very happy and healthy holiday season! \nPlease join us for a festive evening with MCSC friends and guests! \nGKG has a cash bar and a great bar food menu. \nTo help spread holiday spirit\, we’ll greatly appreciate if you would bring a new\, unwrapped gift for a Teen to help support Toys for Teens – this will be the only night we will be collecting gifts.  Or if you prefer to donate $\, go to https://www.toysfortots.org/donate-today/ \nDon’t forget to use your company matching gifts program to increase your donation. Our thanks in advance for your generosity! \nWe look forward to seeing you there!   \nContact Gina Maroney glmaroney29@gmail.com with any questions.
URL:https://morriscountyskiclub.com/event/holiday-aaf-green-knoll-grill/
LOCATION:Green Knoll Grille\, Bridgewater\, NJ\, United States
CATEGORIES:AAF Alive After 5 Social
ORGANIZER;CN="Lisa Margolis":MAILTO:LisaSLP@aol.com
END:VEVENT
BEGIN:VEVENT
DTSTART;TZID=America/New_York:20251215T170000
DTEND;TZID=America/New_York:20251215T190000
DTSTAMP:20260423T063549
CREATED:20251105T171434Z
LAST-MODIFIED:20251105T171434Z
UID:3366-1765818000-1765825200@morriscountyskiclub.com
SUMMARY:NJSSC December UGLY CHRISTMAS SWEATER HAPPY HOUR
DESCRIPTION:Pull out your ugliest\, most\nover-the-top holiday sweater and meet the NJ Ski and Snowboard Council for a fun happy hour at The Shannon Rose in Ramsey NJ. \n 
URL:https://morriscountyskiclub.com/event/njssc-december-ugly-christmas-sweater-happy-hour/
LOCATION:The Shannon Rose\, 1200 US 17\, Ramsey\, New Jersey
CATEGORIES:AAF Alive After 5 Social
END:VEVENT
BEGIN:VEVENT
DTSTART;TZID=America/New_York:20260129T170000
DTEND;TZID=America/New_York:20260129T210000
DTSTAMP:20260423T063549
CREATED:20260116T030727Z
LAST-MODIFIED:20260130T032053Z
UID:3448-1769706000-1769720400@morriscountyskiclub.com
SUMMARY:January AAF - Iron Bar\, Morristown
DESCRIPTION:MORRIS COUNTY SKI CLUB \nJANUARY “AAF” / HAPPY HOUR \nIRON BAR \n5 South Street • Morristown\, New Jersey 07960 \n973.455.7111\nwww.ironbarmorristown.com \nJoin MCSC friends for fun and refreshment at Iron Bar on \nThursday\, January 29\, 2026! \nThere’s no set time for the happy hour so please join us as soon as you \ncan that evening!\nWe look forward to seeing you there! \nIron Bar is known for “North Jersey’s longest bar\, soaring ceilings\, great music\, \nlarge screen TVs\, creative cocktails\, great food and service”\nContact Lisa Margolis (lisaslp@aol.com) with any questions/concerns.\nFrom Rt.287 South: Take Madison Avenue Exit 35 and bear right at the end of the\nexit. Make a right at the light onto South Street. Go thru 3 lights and Iron Bar is on the\nleft.\nFrom Rt.287 North: Take Madison Avenue Exit 35 and bear left at the end of the exit\nonto South Street. Go thru 3 lights and Iron Bar is on the left.\nParking: There is on-street parking (if you are lucky) with meters as well as the Dehart\nStreet Parking Complex which is on Dehart Street (one way street) behind Iron Bar. The\nIron Bar has back door accessibility from the parking garage ☺ There is also a parking\nlot across from the parking complex on Dehart Street which is available after banking\nhours (though it gets full quickly).
URL:https://morriscountyskiclub.com/event/january-aaf-iron-bar-morristown/
LOCATION:Iron Bar\, 5 South Street\, Morristown\, NJ\, 07960
CATEGORIES:AAF Alive After 5 Social
ORGANIZER;CN="Lisa Margolis":MAILTO:LisaSLP@aol.com
END:VEVENT
BEGIN:VEVENT
DTSTART;TZID=America/New_York:20260219T180000
DTEND;TZID=America/New_York:20260219T213000
DTSTAMP:20260423T063549
CREATED:20260213T104404Z
LAST-MODIFIED:20260213T104404Z
UID:3455-1771524000-1771536600@morriscountyskiclub.com
SUMMARY:February AAF Delicious Heights\, Bedminster
DESCRIPTION:  \nMORRIS COUNTY SKI CLUB \nFEBRUARY’S “AAF”/ HAPPY HOUR AT DELICIOUS HEIGHTS  \n285 Main Street \nBedminster\, New Jersey 07921   \n908-234-1596 \n  \nPlease come join us on February 19\, 2026 at the Delicious Heights. \nThere is no set time for the happy hour so please join us as soon as you can that evening.  The bar offers happy hour from 3:00-6:00 with some drink special prices as well as a few appetizers at a discounted price.  Enjoy some “schmoozies” and “boozies” with old and new friends! \n  \nI look forward to seeing you there ☺  \nPlease contact Lisa at LisaSLP@aol.com with any questions/concerns.
URL:https://morriscountyskiclub.com/event/february-aaf-delicious-heights-bedminster/
LOCATION:Delicious Heights\, 285 Main Street\, Bedminster\, NJ\, United States
CATEGORIES:AAF Alive After 5 Social
ORGANIZER;CN="Lisa Margolis":MAILTO:LisaSLP@aol.com
END:VEVENT
BEGIN:VEVENT
DTSTART;TZID=America/New_York:20260319T170000
DTEND;TZID=America/New_York:20260319T210000
DTSTAMP:20260423T063549
CREATED:20260228T025426Z
LAST-MODIFIED:20260228T025426Z
UID:3466-1773939600-1773954000@morriscountyskiclub.com
SUMMARY:March AAF - Capital Craft\, East Hanover\, Thursday 3/19/26
DESCRIPTION:MARCH “AAF”/ HAPPY HOUR \nThursday\, March 19\, 2026 \n  \nCAPITAL CRAFT \n138 NJ-10 (Westbound\, next to Chili’s) \nEast Hanover\, New Jersey 07936 \nwww.capitalcraftnj.com \n973-585-6929 \n  \nThere is no set time for the happy hour so please join us as soon as you can that evening.  Capital Craft offers happy hour from 3:00-6:00 which includes half off all drinks except beer cans as well as a modified appetizer menu at a discounted price. Enjoy some “schmoozies” and “boozies” with old and new friends! \n  \nI look forward to seeing you there ☺ \nPlease contact Lisa at LisaSLP@aol.com with any questions/concerns.
URL:https://morriscountyskiclub.com/event/march-aaf-capital-craft-east-hanover-thursday-3-19-26/
LOCATION:Capital Craft\, 138 NJ-10\, East Hanover\, New Jersey\, 07936
CATEGORIES:AAF Alive After 5 Social
ORGANIZER;CN="Lisa Margolis":MAILTO:LisaSLP@aol.com
END:VEVENT
BEGIN:VEVENT
DTSTART;TZID=America/New_York:20260416T170000
DTEND;TZID=America/New_York:20260416T210000
DTSTAMP:20260423T063549
CREATED:20260402T113150Z
LAST-MODIFIED:20260402T113430Z
UID:3484-1776358800-1776373200@morriscountyskiclub.com
SUMMARY:APRIL “AAF”/HAPPY HOUR AT REVOLUTION BAR\, GASTROPUB
DESCRIPTION:APRIL “AAF”/HAPPY HOUR AT REVOLUTION\, GASTROPUB \n9 South Street • Morristown\, New Jersey 07960 \n973.455.0033 \n www.revolutionmorristown.com \nPlease join your MCSC friends for fun and refreshment at Revolution on Thursday\, April 16\, 2026! \nThere’s no set time for the happy hour so please join us as soon as you can that evening!   \n Revolution is known for their “gastropub specialty seasonal and craft beers from NJ and all over the world.” They also have craft cocktails. Happy Hour is from 3-6 with specials on pizza\, pretzels & pints!  \n  \nWe hope to see you there! \n  \nContact Lisa Margolis (lisaslp@aol.com) with any questions/concerns. \n  \nFrom Rt.287 South: Take Madison Avenue Exit 35 and bear right at the end of the exit.  Make a right at the light onto South Street.  Go thru 3 lights and Revolution is on the left. \n  \nFrom Rt.287 North: Take Madison Avenue Exit 35 and bear left at the end of the exit onto South Street.  Go thru 3 lights and Revolution is on the left. \nParking: There is on-street parking (if you are lucky) with meters as well as the Dehart Street Parking Complex which is on Dehart Street (one way street) behind Revolution.
URL:https://morriscountyskiclub.com/event/april-aaf-happy-hour-at-revolution-gastropub/
LOCATION:Revolution\, 9 South Street\, Morristown\, NJ\, 07960
CATEGORIES:AAF Alive After 5 Social
ORGANIZER;CN="Lisa Margolis":MAILTO:LisaSLP@aol.com
END:VEVENT
END:VCALENDAR