BEGIN:VCALENDAR
VERSION:2.0
PRODID:-//Morris County Ski Club - ECPv6.15.20//NONSGML v1.0//EN
CALSCALE:GREGORIAN
METHOD:PUBLISH
X-ORIGINAL-URL:https://morriscountyskiclub.com
X-WR-CALDESC:Events for Morris County Ski Club
REFRESH-INTERVAL;VALUE=DURATION:PT1H
X-Robots-Tag:noindex
X-PUBLISHED-TTL:PT1H
BEGIN:VTIMEZONE
TZID:America/New_York
BEGIN:DAYLIGHT
TZOFFSETFROM:-0500
TZOFFSETTO:-0400
TZNAME:EDT
DTSTART:20230312T070000
END:DAYLIGHT
BEGIN:STANDARD
TZOFFSETFROM:-0400
TZOFFSETTO:-0500
TZNAME:EST
DTSTART:20231105T060000
END:STANDARD
BEGIN:DAYLIGHT
TZOFFSETFROM:-0500
TZOFFSETTO:-0400
TZNAME:EDT
DTSTART:20240310T070000
END:DAYLIGHT
BEGIN:STANDARD
TZOFFSETFROM:-0400
TZOFFSETTO:-0500
TZNAME:EST
DTSTART:20241103T060000
END:STANDARD
BEGIN:DAYLIGHT
TZOFFSETFROM:-0500
TZOFFSETTO:-0400
TZNAME:EDT
DTSTART:20250309T070000
END:DAYLIGHT
BEGIN:STANDARD
TZOFFSETFROM:-0400
TZOFFSETTO:-0500
TZNAME:EST
DTSTART:20251102T060000
END:STANDARD
END:VTIMEZONE
BEGIN:VEVENT
DTSTART;TZID=America/New_York:20240906T140000
DTEND;TZID=America/New_York:20240906T153000
DTSTAMP:20260424T032724
CREATED:20240905T053916Z
LAST-MODIFIED:20240923T012248Z
UID:2329-1725631200-1725636600@morriscountyskiclub.com
SUMMARY:MCSC 1st Pickleball Event
DESCRIPTION:On Friday September 6th\, join MCSC for a fun night of pickleball at the courts in the Timberbrooke Townhouse complex on Washington Valley Road in Bedminster across from Hills Drive. \nThis event is for all levels. We will have 2 courts. Our resident expert\, George Demos will explain the rules and coach the beginners on one court and the more experienced players will play a round robin on the second court. We will have extra paddles for those who need one. Space is limited to 16 people\, so if you are interested in coming let me know ASAP. \nAfterwards we can walk across the street and enjoy some pizza and drinks (BYOB) at Panatieri’s at the Fresh Market Shopping Center. \n 
URL:https://morriscountyskiclub.com/event/mcsc-first-pickleball-event/
LOCATION:NJ
CATEGORIES:Other Fun Stuff
END:VEVENT
BEGIN:VEVENT
DTSTART;TZID=America/New_York:20240927T073000
DTEND;TZID=America/New_York:20240927T213000
DTSTAMP:20260424T032724
CREATED:20240905T233307Z
LAST-MODIFIED:20240926T190539Z
UID:2409-1727422200-1727472600@morriscountyskiclub.com
SUMMARY:Remarkable Restaurants - Verona\, Randolph NJ
DESCRIPTION:Date: Friday\, September 27\, 2024\nReservation time: 7:30 pm                               \nLocation: Verona Restaurant \n1171 Sussex Turnpike\, Randolph\, NJ 07869               \nCome and enjoy an Italian dinner with old and new friends at a great restaurant in Randolph\, New Jersey. Located in a small strip mall that you might not notice\, Verona features white linen table clothes\, Manhattan-style service and great food! \nHere are the details: \n–          Small group! We have a reservation for 10\n–          BYOB \n–          Appetizers about $15\, pasta dishes about $20 and main dishes $25 – 35 \n–          Separate checks provided\n–          https://www.veronarestaurant.com/ \nPlease confirm your spot by contacting:\nMarion Atwater\natwaterm@optonline.net\nRemarkable Restarants – Verona 9-27-2024 \nPS\nWe are looking for club members to host dinner or luncheons at their favorite dining spot.  If you are interested in hosting\, please contact Lisa Margolis or Marion Atwater
URL:https://morriscountyskiclub.com/event/remarkable-restaurants-verona-randolph-nj/
LOCATION:Verona\, 1171 Sussex Turnpike\, Randolph\, NJ\, 07869\, United States
CATEGORIES:Other Fun Stuff
END:VEVENT
BEGIN:VEVENT
DTSTART;TZID=America/New_York:20240927T173000
DTEND;TZID=America/New_York:20240927T210000
DTSTAMP:20260424T032724
CREATED:20240920T184900Z
LAST-MODIFIED:20240922T220457Z
UID:2551-1727458200-1727470800@morriscountyskiclub.com
SUMMARY:MCSC Pickleball – back by popular demand
DESCRIPTION:BACK BY POPULAR DEMAND – MCSC PICKLEBALL EVENT \nOn Friday September 27th\, join MCSC for a fun night of pickleball at the courts in the Timberbrooke Townhouse complex on Washington Valley Road in Bedminster across from Hills Drive. \nOnce again this event is for all levels. We will have 2 courts. Our resident expert\, George will give tips to the intermediate players while Gina will coach the beginners. We will have extra paddles and plenty of balls. Space is limited to 16 people\, so if you are interested in coming let RSVP  ASAP.  \nAfterwards we can walk across the street and enjoy some pizza and drinks (BYOB) at Panatieri’s in the Fresh Market Shopping Center. \nDate:   Friday 9/27/24 \nTime:   Pickleball 5:30 pm – 7:00 \nPizza 7:00 – ? \nCost:    Pickleball is free\, but we will split the cost of the pizzas. BYOB  \nBring:   Paddle & water. If you bring balls\, be sure to put your name/initials on them. \nRSVP: Text Gina at 908-240-8715. Provide your name\, level of play Beginner\, Intermediate\, or Advanced and note if you need a paddle.
URL:https://morriscountyskiclub.com/event/back-by-popular-demand-mcsc-pickleball-event/
LOCATION:NJ
CATEGORIES:Other Fun Stuff
END:VEVENT
END:VCALENDAR