BEGIN:VCALENDAR
VERSION:2.0
PRODID:-//Morris County Ski Club - ECPv6.15.20//NONSGML v1.0//EN
CALSCALE:GREGORIAN
METHOD:PUBLISH
X-ORIGINAL-URL:https://morriscountyskiclub.com
X-WR-CALDESC:Events for Morris County Ski Club
REFRESH-INTERVAL;VALUE=DURATION:PT1H
X-Robots-Tag:noindex
X-PUBLISHED-TTL:PT1H
BEGIN:VTIMEZONE
TZID:America/New_York
BEGIN:DAYLIGHT
TZOFFSETFROM:-0500
TZOFFSETTO:-0400
TZNAME:EDT
DTSTART:20240310T070000
END:DAYLIGHT
BEGIN:STANDARD
TZOFFSETFROM:-0400
TZOFFSETTO:-0500
TZNAME:EST
DTSTART:20241103T060000
END:STANDARD
BEGIN:DAYLIGHT
TZOFFSETFROM:-0500
TZOFFSETTO:-0400
TZNAME:EDT
DTSTART:20250309T070000
END:DAYLIGHT
BEGIN:STANDARD
TZOFFSETFROM:-0400
TZOFFSETTO:-0500
TZNAME:EST
DTSTART:20251102T060000
END:STANDARD
BEGIN:DAYLIGHT
TZOFFSETFROM:-0500
TZOFFSETTO:-0400
TZNAME:EDT
DTSTART:20260308T070000
END:DAYLIGHT
BEGIN:STANDARD
TZOFFSETFROM:-0400
TZOFFSETTO:-0500
TZNAME:EST
DTSTART:20261101T060000
END:STANDARD
END:VTIMEZONE
BEGIN:VEVENT
DTSTART;TZID=America/New_York:20250201T100000
DTEND;TZID=America/New_York:20250201T130000
DTSTAMP:20260423T200356
CREATED:20250117T041122Z
LAST-MODIFIED:20250128T235111Z
UID:2957-1738404000-1738414800@morriscountyskiclub.com
SUMMARY:Hike Pyramid Mountain - CANCELLED
DESCRIPTION:Morris County Ski Club Hike                                  \nPyramid Mountain\, Kinnelon\, NJ \n\n\n\n\n\nDate:  Saturday\, February 1\, 2025\nWill reschedule for April\, stay tuned\nTime:  10:00 AM\nMeeting Location: Boonton Avenue Field \nDifficulty: Moderate  \nHike distance: About 5.5 miles \nElevation gain: 715 feet \nTime: About 3 hours \nDescription: Join the Morris County Ski Club on a moderate hike at Pyramid Mountain in New Jersey. This hike features the famous “Tripod Rock”\, views of the NYC skyline and hiking along Taylortown Reservoir.   \nThe trailhead begins at the northern entrance to the park\, starting at a ballfield 2 miles from the Visitor Center (I recommend to use the google map directions in the link provided below).   \nFor those interested in grabbing a bite to eat afterwards\, the Reservoir Tavern in Boonton https://therestavern.com is nearby.  \nImportant Notes for the hike: \n\nHiking boots are highly recommended as the trails are rocky in spots and can be muddy.\nIf there is snow/ice on the trail\, micro spikes are highly recommended.\nDaypack to carry extra clothing\, sufficient water and a snack.  \nThere are NO restroom facilities at the trailhead. A porta-potty is located at the Visitor Center\, which is 2 miles away (see directions below). \n\nDirections to the meeting location from Morristown (https://maps.app.goo.gl/ELoMkiTFfyveTqeM6): \n\nTake I-287 North to exit 45 (Wootton St/Boonton)\nContinue on Park Ave (0.1 miles)\nTurn left on Wootton St (go 0.6 miles)\nTurn right on Boonton Ave (go 2 miles)\nTurn right onto Rockaway Valley Rd. (go 150 ft)\nTurn left on Boonton Ave (go about 3 miles). (You’ll pass the Pyramid Mountain \n\nVisitor’s Center on the left after about 1 mile if you need to use the porta-potty.)  \n\nParking lot will be on the left by the ballfield. \n\nFor more information\, please contact Ann Shea at (973) 452-5466 or ashea2@optonline.net. \nAdvanced sign up by e-mail is not required\, but is appreciated. 
URL:https://morriscountyskiclub.com/event/hike-pyramid-mountain/
LOCATION:NJ
CATEGORIES:Other Fun Stuff
END:VEVENT
BEGIN:VEVENT
DTSTART;TZID=America/New_York:20250228T190000
DTEND;TZID=America/New_York:20250228T220000
DTSTAMP:20260423T200356
CREATED:20250117T041832Z
LAST-MODIFIED:20250203T030958Z
UID:2959-1740769200-1740780000@morriscountyskiclub.com
SUMMARY:*** SOLD OUT *** Remarkable Restaurants - Portofino in Morristown
DESCRIPTION:Date: Friday\, February 28\nReservation Time: 7:00 pm                               \nLocation: 29 Mills Street\, Morristown\, NJ \n\nJoin a small group of MCSC friends for a great Italian meal at Portofino!   \n  \nPortofino has been serving great meals in Morristown for more than 30 years. At Portofino’s\, diners will find a variety of Italian fare with a special focus on seafood. Some of the popular options on the menu include grilled salmon\, risotto pescatore\, stuffed flounder\, shrimp scampi\, spinach ravioli and penne alla vodka.  \n  \nTripadvisor review: “Classic red sauce Italian. Chicken parm was terrific\, linguine cooked to perfection”. \n\nHere are the details:   \n– Small group! We have a reservation for 10\n– BYOB\n– Appetizers about $15\, pasta $20 – $25\, main dishes $30\n– Street parking is available. Add a little time to find a spot.  \nPlease confirm your spot by Tuesday\, February 25\, by sending your name\, email and phone number to Marion Atwater 845-304-0341 / atwaterm@optonline.net. We will use your contact information to send final information to all attendees. \n  \nPS:\nWe are looking for club members to host dinner or luncheons at their favorite dining spot.  If you are interested in hosting\, please contact Lisa Margolis (973) 476-4374 or Marion Atwater (845) 304-0341.
URL:https://morriscountyskiclub.com/event/remarkable-restaurants-portofino-in-morristown/
LOCATION:Portofino Restaurant\, 29 Mills St\, Morristown\, New Jersey
CATEGORIES:Other Fun Stuff
END:VEVENT
END:VCALENDAR