BEGIN:VCALENDAR
VERSION:2.0
PRODID:-//Morris County Ski Club - ECPv6.15.20//NONSGML v1.0//EN
CALSCALE:GREGORIAN
METHOD:PUBLISH
X-WR-CALNAME:Morris County Ski Club
X-ORIGINAL-URL:https://morriscountyskiclub.com
X-WR-CALDESC:Events for Morris County Ski Club
REFRESH-INTERVAL;VALUE=DURATION:PT1H
X-Robots-Tag:noindex
X-PUBLISHED-TTL:PT1H
BEGIN:VTIMEZONE
TZID:America/New_York
BEGIN:DAYLIGHT
TZOFFSETFROM:-0500
TZOFFSETTO:-0400
TZNAME:EDT
DTSTART:20240310T070000
END:DAYLIGHT
BEGIN:STANDARD
TZOFFSETFROM:-0400
TZOFFSETTO:-0500
TZNAME:EST
DTSTART:20241103T060000
END:STANDARD
BEGIN:DAYLIGHT
TZOFFSETFROM:-0500
TZOFFSETTO:-0400
TZNAME:EDT
DTSTART:20250309T070000
END:DAYLIGHT
BEGIN:STANDARD
TZOFFSETFROM:-0400
TZOFFSETTO:-0500
TZNAME:EST
DTSTART:20251102T060000
END:STANDARD
BEGIN:DAYLIGHT
TZOFFSETFROM:-0500
TZOFFSETTO:-0400
TZNAME:EDT
DTSTART:20260308T070000
END:DAYLIGHT
BEGIN:STANDARD
TZOFFSETFROM:-0400
TZOFFSETTO:-0500
TZNAME:EST
DTSTART:20261101T060000
END:STANDARD
END:VTIMEZONE
BEGIN:VEVENT
DTSTART;TZID=America/New_York:20250416T180000
DTEND;TZID=America/New_York:20250416T210000
DTSTAMP:20260423T165400
CREATED:20250305T184530Z
LAST-MODIFIED:20250305T184530Z
UID:3000-1744826400-1744837200@morriscountyskiclub.com
SUMMARY:Remarkable Restaurant  - Fig & Lily Garden\, Wed. April 16
DESCRIPTION:Fig & Lily Garden\nWednesday\, April 16\, 2025\, 6 pm reservation \n2 Cattano Ave\, Morristown\, NJ 07960 \nEntrance is on the corner across from the Hyatt Hotel. \nStylish BYOB with a courtyard prepping Eastern Mediterranean eats using locally sourced ingredients. Rated 4 stars on TripAdvisor. \nDetails:   \n– Small group! We have a reservation for 10\n– BYOB\n– Price:  $30-50 \n– Street and covered parking available for a fee.  \n  \nPlease confirm your spot by Friday\, April 11\, by sending your name\, email and phone number to Tricia Barnes\, \n(201) 572-6037 / tvbarnes98@yahoo.com. We will use your contact information to send final information to all attendees.
URL:https://morriscountyskiclub.com/event/remarkable-restaurant-fig-lily-garden-wed-april-16/
LOCATION:Fig & Lily Garden\, 2 Cattano Ave\, Morristown\, NJ
CATEGORIES:Other Fun Stuff
ORGANIZER;CN="Tricia Barnes":MAILTO:tvbarnes98@yahoo.com
END:VEVENT
END:VCALENDAR