BEGIN:VCALENDAR
VERSION:2.0
PRODID:-//Morris County Ski Club - ECPv6.15.20//NONSGML v1.0//EN
CALSCALE:GREGORIAN
METHOD:PUBLISH
X-ORIGINAL-URL:https://morriscountyskiclub.com
X-WR-CALDESC:Events for Morris County Ski Club
REFRESH-INTERVAL;VALUE=DURATION:PT1H
X-Robots-Tag:noindex
X-PUBLISHED-TTL:PT1H
BEGIN:VTIMEZONE
TZID:America/New_York
BEGIN:DAYLIGHT
TZOFFSETFROM:-0500
TZOFFSETTO:-0400
TZNAME:EDT
DTSTART:20240310T070000
END:DAYLIGHT
BEGIN:STANDARD
TZOFFSETFROM:-0400
TZOFFSETTO:-0500
TZNAME:EST
DTSTART:20241103T060000
END:STANDARD
BEGIN:DAYLIGHT
TZOFFSETFROM:-0500
TZOFFSETTO:-0400
TZNAME:EDT
DTSTART:20250309T070000
END:DAYLIGHT
BEGIN:STANDARD
TZOFFSETFROM:-0400
TZOFFSETTO:-0500
TZNAME:EST
DTSTART:20251102T060000
END:STANDARD
BEGIN:DAYLIGHT
TZOFFSETFROM:-0500
TZOFFSETTO:-0400
TZNAME:EDT
DTSTART:20260308T070000
END:DAYLIGHT
BEGIN:STANDARD
TZOFFSETFROM:-0400
TZOFFSETTO:-0500
TZNAME:EST
DTSTART:20261101T060000
END:STANDARD
END:VTIMEZONE
BEGIN:VEVENT
DTSTART;TZID=America/New_York:20250508T183000
DTEND;TZID=America/New_York:20250508T213000
DTSTAMP:20260423T152408
CREATED:20250319T021747Z
LAST-MODIFIED:20250319T021747Z
UID:3014-1746729000-1746739800@morriscountyskiclub.com
SUMMARY:Remarkable Restaurants - Girasole Cucina Italiana
DESCRIPTION:Date: May 8\, 2025\nReservation Time: 6:30 pm                             \nLocation: 502 West Union Avenue\, Bound Brook\, NJ \nJoin a small group of MCSC friends for a great Italian meal at Girasole Cucina Italiano.   \nTrip Advisor rates Girasole as the number one restaurant in Bound Brook! A TripAdvisor review says Girasole is a “Classic Neighborhood Italian restaurant with a first-class food and service.  You can get traditional items such as Chicken Parm and Ceasar Salad\, but also more creative dishes like Funghi Trifolata and Herb crusted Salmon. Service is extraordinary.” \nHere are the details:   \n– Small group! We have a reservation for 10\n– BYOB\n– Appetizers about $10-$17\, pasta $25 – $30\, main dishes $25-$30\n– Parking is available.   \nPlease confirm your spot by Friday\, April 2\, by sending your name\, email and phone number to Jean Kibalo 973-464-9434 / jeankibalo@gmail.com. We will use your contact information to send final information to all attendees. \n \nPS:\nWe are looking for club members to host dinner or luncheons at their favorite dining spot.  If you are interested in hosting\, please contact Lisa Margolis (973) 476-4374 or Marion Atwater (845) 304-0341.
URL:https://morriscountyskiclub.com/event/remarkable-restaurants-girasole-cucina-italiana/
LOCATION:Girasole Ristorante\, 502 West Union Ave.\, Bound Brook\, New Jersey
CATEGORIES:Other Fun Stuff
END:VEVENT
BEGIN:VEVENT
DTSTART;TZID=America/New_York:20250531T180000
DTEND;TZID=America/New_York:20250531T210000
DTSTAMP:20260423T152408
CREATED:20250319T015919Z
LAST-MODIFIED:20250319T020558Z
UID:3008-1748714400-1748725200@morriscountyskiclub.com
SUMMARY:Dinner at American Bounty Restaurant at the Culinary Institute of America
DESCRIPTION:We have a reservation for ten people at American Bounty restaurant at the Culinary Institute of America (CIA) in Poughkeepsie at 6:00 p.m.\non Saturday\, May 31. The restaurant focuses on regional and seasonal products through contemporary and traditional dishes.\n\nThe CIA is a private culinary school with 3 main restaurants (there is a French and an Italian one in addition to American Bounty).  They are operated entirely by the students\, many of whom go on to careers in the finest restaurants throughout the world.  The school is located on the banks of the beautiful Hudson River and there are many sites to see and activities to do before dinner (or the following day if people decide to stay over).\n\nIn addition to breweries and vineyards that offer tastings\, the Franklin D. Roosevelt Presidential Library and Museum is nearby with lovely grounds and gardens.  As well\, there is the Walkway Over the Hudson\, a state park that\, no surprise\, is a walkway over the Hudson\, the longest elevated pedestrian bridge in the world at 1.28 miles.\n\nFor those who wish to make a weekend of it\, there are numerous lodging options many of which are discounted with reservations made through the website\n www.ciachef.edu.\n\nIf you wish to sign up for the dinner\, please contact Jodi Lee Alper at jodileealper@gmail.com.\n\nCar pooling can be considered for those who choose to return home after the dinner.
URL:https://morriscountyskiclub.com/event/dinner-at-american-bounty-restaurant-at-the-culinary-institute-of-america/
LOCATION:American Bounty Restaurant\, Culinary Institute of America
CATEGORIES:Other Fun Stuff
ORGANIZER;CN="Jodi Lee Alper":MAILTO:jodileealper@gmail.com
END:VEVENT
END:VCALENDAR