BEGIN:VCALENDAR
VERSION:2.0
PRODID:-//Morris County Ski Club - ECPv6.15.20//NONSGML v1.0//EN
CALSCALE:GREGORIAN
METHOD:PUBLISH
X-ORIGINAL-URL:https://morriscountyskiclub.com
X-WR-CALDESC:Events for Morris County Ski Club
REFRESH-INTERVAL;VALUE=DURATION:PT1H
X-Robots-Tag:noindex
X-PUBLISHED-TTL:PT1H
BEGIN:VTIMEZONE
TZID:America/New_York
BEGIN:DAYLIGHT
TZOFFSETFROM:-0500
TZOFFSETTO:-0400
TZNAME:EDT
DTSTART:20240310T070000
END:DAYLIGHT
BEGIN:STANDARD
TZOFFSETFROM:-0400
TZOFFSETTO:-0500
TZNAME:EST
DTSTART:20241103T060000
END:STANDARD
BEGIN:DAYLIGHT
TZOFFSETFROM:-0500
TZOFFSETTO:-0400
TZNAME:EDT
DTSTART:20250309T070000
END:DAYLIGHT
BEGIN:STANDARD
TZOFFSETFROM:-0400
TZOFFSETTO:-0500
TZNAME:EST
DTSTART:20251102T060000
END:STANDARD
BEGIN:DAYLIGHT
TZOFFSETFROM:-0500
TZOFFSETTO:-0400
TZNAME:EDT
DTSTART:20260308T070000
END:DAYLIGHT
BEGIN:STANDARD
TZOFFSETFROM:-0400
TZOFFSETTO:-0500
TZNAME:EST
DTSTART:20261101T060000
END:STANDARD
END:VTIMEZONE
BEGIN:VEVENT
DTSTART;TZID=America/New_York:20250608T133000
DTEND;TZID=America/New_York:20250608T170000
DTSTAMP:20260423T135050
CREATED:20250527T091126Z
LAST-MODIFIED:20250527T091126Z
UID:3063-1749389400-1749402000@morriscountyskiclub.com
SUMMARY:Burnt Mills Cider\, Sunday June 8th
DESCRIPTION:Come sit on the lawn and enjoy some of Burnt Mills delicious hard cider.\n\nWhere :  Burnt Mills Cider\,  3540 Rt 206N Bedminster\nWhen:    Sunday\, June 8th\nTime:      1:30 – ?\n\nBring:      lawn chair\, snack to share\, sunscreen\, water\, NO outside alcohol is permitted\n\nAngry Archie’s Food Truck will be there featuring lobster rolls\, crab cakes\, chicken sandwiches and more.\n\nRSVP to Kim Kennedy at kmkennedy318@gmail.com or 973-202-5589.\n \nI hope to see you there \n \nEvent will be cancelled for inclement weather.  
URL:https://morriscountyskiclub.com/event/burnt-mills-cider-sunday-june-8th/
LOCATION:Burnt Mills Cider\, 3540 Rt 206N\, Bedminster\, NJ\, 07921\, United States
CATEGORIES:Other Fun Stuff
END:VEVENT
BEGIN:VEVENT
DTSTART;TZID=America/New_York:20250613T173000
DTEND;TZID=America/New_York:20250613T193000
DTSTAMP:20260423T135050
CREATED:20250527T092734Z
LAST-MODIFIED:20250607T093832Z
UID:3068-1749835800-1749843000@morriscountyskiclub.com
SUMMARY:PICKLEBALL\, Rescheduled to Friday 6/13
DESCRIPTION:                                         \nBACK BY POPULAR DEMAND – MCSC PICKLEBALL EVENT \nOn Friday June 13th\, join MCSC for a fun night of pickleball at the courts in the Timberbrooke Townhouse complex on Washington Valley Road in Bedminster across from Hills Drive. \nOnce again this event is for all levels. We will have 2 courts. Our resident expert\, George Demos will give tips to the intermediate players while Gina will coach the beginners. We will have extra paddles and plenty of balls. Space is limited to 16 people\, so if you are interested in coming let me know ASAP.  \nAfterwards we can walk across the street and enjoy some pizza and drinks (BYOB) at Panatieri’s in the Fresh Market Shopping Center. \nDate:   Friday 6/13/25 \nTime:   Pickleball 5:30 pm – 7:30 \nPizza 7:30 – ? \nCost:    Pickleball is free\, but we will split the cost of the pizzas. BYOB  \nBring:   Paddle & water. If you bring balls\, be sure to put your name/initials on them. \nRSVP: Text Gina at 908-240-8715. Provide your name\, level of play Beginner\, Intermediate\, or Advanced and note if you need a paddle. \n  \nA splendid time is guaranteed for all! \nDirections: Use the address 601 Timberbrooke Dr.\, Bedminster in your GPS and park in any spot on the internal square of the development.  The courts are behind unit 601. Any problem – call Gina 908-240-8715.  \n            \nRain cancels the event. I will text all by 5pm if the weather is iffy.
URL:https://morriscountyskiclub.com/event/pickleball-friday-6-6/
LOCATION:601 Timberbrooke Dr.\, 601 Timberbrooke Dr.\, Bedminster\, NJ\, 07921\, United States
CATEGORIES:Other Fun Stuff
END:VEVENT
BEGIN:VEVENT
DTSTART;TZID=America/New_York:20250617T190000
DTEND;TZID=America/New_York:20250617T220000
DTSTAMP:20260423T135050
CREATED:20250508T021212Z
LAST-MODIFIED:20250509T202930Z
UID:3049-1750186800-1750197600@morriscountyskiclub.com
SUMMARY:June Remarkable Restaurants - Thonglor Thai\, Denville
DESCRIPTION:Thai food is back by popular demand!!\n\nDate: Tuesday\, June 17\, 2025\nReservation Time: 7:00 pm                               \nLocation: Thonglor Thai\, 288 Diamond Spring Road\, Denville\, NJ\n  \nEnjoy delicious Thai cuisine at this popular new eatery in Denville\, NJ. This restaurant believes that food should be an experience that brings people together and creates memories. From flavors to preparation\, Thonglor Thai Bistro strives for perfection in everything they do.  Their menu features classic dishes like pad thai\, curry and roast duck. \nHere are the details:  \n–          Small group! We have a reservation for 10\n–          BYOB \n–          Appetizers about $15\, main dishes $25 – $35  \nPlease confirm your spot by Tuesday\, June 10\, 2025 by contacting: \nLisa Margolis\nlisaslp@aol.com\n973-476-4374 \nRSVP required. No walk-ins please.  \nPS:\nWe are looking for club members to host dinner or luncheons at their favorite dining spot.  If you are interested in hosting\, please contact Lisa Margolis (973) 476-4374 or Marion Atwater (845) 304-0341.
URL:https://morriscountyskiclub.com/event/june-remarkable-restaurants-thonglor-thai-denville/
LOCATION:THONGLOR THAI BISTRO\, 288 Diamond Spring Rd.\, Denville\, NJ\, United States
CATEGORIES:Other Fun Stuff
END:VEVENT
BEGIN:VEVENT
DTSTART;TZID=America/New_York:20250621T093000
DTEND;TZID=America/New_York:20250621T140000
DTSTAMP:20260423T135050
CREATED:20250602T151039Z
LAST-MODIFIED:20250602T151039Z
UID:3073-1750498200-1750514400@morriscountyskiclub.com
SUMMARY:Hike Turkey Mountain
DESCRIPTION:Turkey Mountain\nMontville\, NJ\n  \nDate: Saturday\, June 21\, 2025\nTime: 9:30 AM\n  \nMeeting Location: Pyramid Mountain Visitor’s Center \nDifficulty: Moderate  \nHike distance: 5 to 6 miles \nTime: About 3.5 hours to 4 hours \n  \nDescription: An easy to moderate hike at Turkey Mountain. There are a couple of climbs on the hike\, but they are not exceptionally long and moderate in steepness. A significant part of the hike will be easy. There are views of Lake Valhalla and NYC. The hike also passes by a waterfall on which the water flow will be dependent on recent rainfall. \n  \nImportant Notes for the hike: \n\nWe will meet in the Pyramid Mountain Visitors Center and then walk across the street to Turkey Mountain.\nIf the parking lot is full just park on the side of the road\nHiking boots are recommended as the trails could be muddy.\nDaypack to carry extra clothing\, sufficient water and your snack.\nBring Insect repellent.  \nThere is a porta-a-potty in the parking lot Restroom facilities are located inside the visitor’s center although I cannot guarantee the visitor’s center will be open at 9:30 AM..\nAddress for the visitor’s center is 472 Boonton Avenue Montville NJ.\nThe visitor’s center is about a 20-minute ride from the VFW meeting location.\nAfter the hike we may go to a nearby bar and grill.\n\nFor more information\, please contact Paul Van Duyne C (201) 470-9317. \nEmail:  p_vanduyne@yahoo.com.  Advanced sign up by e-mail is not required but is appreciated.   \nYou can also sign-up on the Meet-up site. \nTo contact Paul the day of the hike with any other questions (201) 470-9317. 
URL:https://morriscountyskiclub.com/event/hike-turkey-mountain/
LOCATION:Pyramid Mountain Visitors Center\, 472 Boonton Ave\, Montville\, New Jersey\, 07045
CATEGORIES:Other Fun Stuff
ORGANIZER;CN="Paul Van Duyne":MAILTO:p_vanduyne@yahoo.com
END:VEVENT
END:VCALENDAR