BEGIN:VCALENDAR
VERSION:2.0
PRODID:-//Morris County Ski Club - ECPv6.15.20//NONSGML v1.0//EN
CALSCALE:GREGORIAN
METHOD:PUBLISH
X-WR-CALNAME:Morris County Ski Club
X-ORIGINAL-URL:https://morriscountyskiclub.com
X-WR-CALDESC:Events for Morris County Ski Club
REFRESH-INTERVAL;VALUE=DURATION:PT1H
X-Robots-Tag:noindex
X-PUBLISHED-TTL:PT1H
BEGIN:VTIMEZONE
TZID:America/New_York
BEGIN:DAYLIGHT
TZOFFSETFROM:-0500
TZOFFSETTO:-0400
TZNAME:EDT
DTSTART:20240310T070000
END:DAYLIGHT
BEGIN:STANDARD
TZOFFSETFROM:-0400
TZOFFSETTO:-0500
TZNAME:EST
DTSTART:20241103T060000
END:STANDARD
BEGIN:DAYLIGHT
TZOFFSETFROM:-0500
TZOFFSETTO:-0400
TZNAME:EDT
DTSTART:20250309T070000
END:DAYLIGHT
BEGIN:STANDARD
TZOFFSETFROM:-0400
TZOFFSETTO:-0500
TZNAME:EST
DTSTART:20251102T060000
END:STANDARD
BEGIN:DAYLIGHT
TZOFFSETFROM:-0500
TZOFFSETTO:-0400
TZNAME:EDT
DTSTART:20260308T070000
END:DAYLIGHT
BEGIN:STANDARD
TZOFFSETFROM:-0400
TZOFFSETTO:-0500
TZNAME:EST
DTSTART:20261101T060000
END:STANDARD
END:VTIMEZONE
BEGIN:VEVENT
DTSTART;TZID=America/New_York:20250803T150000
DTEND;TZID=America/New_York:20250803T180000
DTSTAMP:20260423T104303
CREATED:20250713T181956Z
LAST-MODIFIED:20250716T025421Z
UID:3112-1754233200-1754244000@morriscountyskiclub.com
SUMMARY:Bar Band:  This Old Engine\, Grateful Dead Tribute Band\, Stirling Hotel\, Sunday 8/3\, 3 - 6pm
DESCRIPTION:MCSC Music Event! \n“This Old Engine”  \nAt the Stirling Hotel\, Stirling\, NJ \nSunday\, August 3\, 2025  2pm to 6pm \nOk\, music lovers\, time to get out those tie dye shirts and Birkenstocks!  Join us for an afternoon of music with “This Old Engine.” \n“This Old Engine delivers their interpretation of the music of the Grateful Dead for an ever-growing fan base.”  (Some of you who are fans of the Irish Harpers\, should recognize the guy on the keyboards\, as this is another one of the bands with which he tours.) \nThe” Beer Garden” opens at 12pm and the band plays from 2pm to 6pm. \nStirling Hotel \n227 Main Ave \nStirling\, NJ  07980 \n#908-647-6919 \n  \nPlease sign up on the Morris County Ski Club Meet Up page\,  \nor contact Nancy McLaughlin at nmclaughlin71@gmail.com
URL:https://morriscountyskiclub.com/event/bar-band-this-old-engine-grateful-dead-tribute-band-sterling-hotel-sunday-8-3-3-6pm/
LOCATION:Stirling Hotel\, 227 Main Avenue\, Stirling\, NJ\, 07980\, United States
CATEGORIES:Other Fun Stuff
END:VEVENT
BEGIN:VEVENT
DTSTART;TZID=America/New_York:20250808T183000
DTEND;TZID=America/New_York:20250808T220000
DTSTAMP:20260423T104303
CREATED:20250713T182659Z
LAST-MODIFIED:20250718T000958Z
UID:3115-1754677800-1754690400@morriscountyskiclub.com
SUMMARY:Somerset Patriots Baseball Game with Fireworks\, Friday 8/8\, TD Bank Ballpark\, Bridgewater
DESCRIPTION:Somerset Patriots Baseball Game \nJoin Morris County Ski Club for BBQ\, baseball and fireworks\, Friday night\, August 8\, at TD Bank Ballpark in Bridgewater\, NJ. \nThe Patriots play the Binghamton Rumble Ponies. Game time is 7:05. Gates open at 6:35. \nOur seats are located in the BBQ area behind left field. The BBQ feast is open from 6:35 to 8:05. Soft drinks and assorted snacks are available throughout the game. The all you can eat buffet opens when the gates open at 6:35 and stays open until 8:05. The BBQ buffet includes: \n• Hamburgers & Hot Dogs\n• Pulled Pork\n• Veggie Burgers\n• Mac and Cheese \n• Cole Slaw\n• Chips\n• Cookies\n• Fountain Soft drinks (no bottled water) \nA grand fireworks display will commence immediately following the game. \nTickets are $40 for MCSC members and $45 for non-members. To secure your ticket\, please pay Morris County Ski Club via Zelle (QR code below)\, or send a check made out to Morris County Ski Club to: \nTricia Barnes \n80 S Edgewood Rd. \nBedminster\, NJ 07921. \nMorris County Ski Club Zelle QR Code: \nZELLE CODE COMING SOON \n  \nScan this code into your bank’s bill pay app to pay MCSCtreasurer@outlook.com. \n \nSales are limited\, so buy your ticket today! Ticket sales end July 24. \nDon’t miss out on BBQ\, baseball and socializing with your Morris County Ski Club friends!! \nParking at the stadium costs $5.00. \nNOTE: Tailgating is NOT allowed at TD Bank park or the surrounding lots. This is strictly enforced. \nQUESTIONS?: email Tricia Barnes at tvbarnes98@yahoo.com \n 
URL:https://morriscountyskiclub.com/event/somerset-patriots-baseball-game-with-fireworks-friday-8-8-td-bank-ballpark-bridgewater/
LOCATION:TD Bank Ball Park\, 1 Patriots Park\, Bridgewater\, NJ\, United States
CATEGORIES:Other Fun Stuff
ORGANIZER;CN="Tricia Barnes":MAILTO:tvbarnes98@yahoo.com
END:VEVENT
BEGIN:VEVENT
DTSTART;TZID=America/New_York:20250816T120000
DTEND;TZID=America/New_York:20250816T213000
DTSTAMP:20260423T104303
CREATED:20250803T213108Z
LAST-MODIFIED:20250803T213108Z
UID:3191-1755345600-1755379800@morriscountyskiclub.com
SUMMARY:Morristown Jazz & Blues Festival
DESCRIPTION:THE ANNUAL MORRISTOWN JAZZ & BLUES FESTIVAL\n    Saturday\, August 16\, 2025 from Noon to 9:30 PM \nJoin your fellow Morris County Ski Club members and guests for a great day of jazz and blues music at the free Morristown Jazz and Blues Festival on Saturday August 16.  \nThe music starts at noon on the Morristown Green with Dani G and Friends and continues all the way until 9:30 that night when headliner Samantha Fish will be wrapping up her set. Throughout the day there will be performances by the Jazz Ambassadors (the 19 piece touring band of the US Army)\, Blues People and King Solomon Hicks. \nSo\, grab your lawn chair or blanket and head down to meet event leader Tony Tarullo for some or all of the music that day. \nThe Morristown Green will have port-a-potties set up as well as plenty of restaurants nearby at which you can grab a bite to eat. You can also bring food and drinks to the event (though alcohol is prohibited). Bring your own form of hydration\, sunscreen and bug repellent to stay comfortable. \nIf you plan to attend\, please email Tony at TonyTarulloMCSC@Yahoo.com so he can try to hold space on the lawn.  \nOn the day of the event\, please contact Tony via cell phone (973-978-1776) if you have difficulty finding the group.  \nThe festival is a rain or shine event but in case of rain or extreme heat\, please reach out beforehand (since we may shorten our stay to avoid the worst of the weather). \nFor more details\, please check out the official event website. \nhttps://www.morristownjazzandblues.com/ \nDirections and parking info can be found at https://www.morristownjazzandblues.com/directions \nIf arriving in Morristown by train\, it’s a 10 minute\, 0.5 mile walk (gentle uphill) from the train station to the Green.
URL:https://morriscountyskiclub.com/event/morristown-jazz-blues-festival/
LOCATION:Morristown Green
CATEGORIES:Other Fun Stuff
END:VEVENT
BEGIN:VEVENT
DTSTART;TZID=America/New_York:20250823T170000
DTEND;TZID=America/New_York:20250823T220000
DTSTAMP:20260423T104303
CREATED:20250731T193239Z
LAST-MODIFIED:20250731T193239Z
UID:3182-1755968400-1755986400@morriscountyskiclub.com
SUMMARY:Bar Event - Pig & Parrot\, Brielle NJ\, Saturday 8/23
DESCRIPTION:Date:  Saturday\, August 23\, 2025\nMeet Up Time:  5:00pm      \nEnding Time:  ??????                      \nLocation:  The Pig and Parrot \n201 Union Lane \nBrielle\, NJ (free parking available) \nhttps://www.thepigandparrot.com/ \nJoin JoAnn Pietro and George Demos as they host MCSC and friends for an excellent adventure at The Pig & Parrot.  This is a fun\, hopping Jersey shore location with a great bar and simple fare restaurant.  \nNo Sign Up Required\, but let JoAnn or George know via text that you plan on being there so they can reserve tables for the group. \nJoAnn:   201-247-7368            George:  201-481-2161  \n \nBe there or be square.
URL:https://morriscountyskiclub.com/event/bar-event-pig-parrot-brielle-nj-saturday-8-23/
LOCATION:Pig & Parrot\, 201 Union Lane\, Brielle\, NJ\, 08730
CATEGORIES:Other Fun Stuff
END:VEVENT
END:VCALENDAR