BEGIN:VCALENDAR
VERSION:2.0
PRODID:-//Morris County Ski Club - ECPv6.15.20//NONSGML v1.0//EN
CALSCALE:GREGORIAN
METHOD:PUBLISH
X-WR-CALNAME:Morris County Ski Club
X-ORIGINAL-URL:https://morriscountyskiclub.com
X-WR-CALDESC:Events for Morris County Ski Club
REFRESH-INTERVAL;VALUE=DURATION:PT1H
X-Robots-Tag:noindex
X-PUBLISHED-TTL:PT1H
BEGIN:VTIMEZONE
TZID:America/New_York
BEGIN:DAYLIGHT
TZOFFSETFROM:-0500
TZOFFSETTO:-0400
TZNAME:EDT
DTSTART:20240310T070000
END:DAYLIGHT
BEGIN:STANDARD
TZOFFSETFROM:-0400
TZOFFSETTO:-0500
TZNAME:EST
DTSTART:20241103T060000
END:STANDARD
BEGIN:DAYLIGHT
TZOFFSETFROM:-0500
TZOFFSETTO:-0400
TZNAME:EDT
DTSTART:20250309T070000
END:DAYLIGHT
BEGIN:STANDARD
TZOFFSETFROM:-0400
TZOFFSETTO:-0500
TZNAME:EST
DTSTART:20251102T060000
END:STANDARD
BEGIN:DAYLIGHT
TZOFFSETFROM:-0500
TZOFFSETTO:-0400
TZNAME:EDT
DTSTART:20260308T070000
END:DAYLIGHT
BEGIN:STANDARD
TZOFFSETFROM:-0400
TZOFFSETTO:-0500
TZNAME:EST
DTSTART:20261101T060000
END:STANDARD
END:VTIMEZONE
BEGIN:VEVENT
DTSTART;TZID=America/New_York:20251003T173000
DTEND;TZID=America/New_York:20251003T193000
DTSTAMP:20260423T075829
CREATED:20250919T143618Z
LAST-MODIFIED:20250919T143618Z
UID:3315-1759512600-1759519800@morriscountyskiclub.com
SUMMARY:Pickleball & Pizza
DESCRIPTION:BACK BY POPULAR DEMAND – MCSC PICKLEBALL EVENT \nOn Friday October 3rd\,  join MCSC for a fun night of pickleball at the courts in the Timberbrooke Townhouse complex on Washington Valley Road in Bedminster\, across from Hills Drive. \nOnce again this event is for all levels. We will have 2 courts. Our resident expert\, George Demos will give tips to the intermediate players while Gina will coach the beginners. We will have extra paddles and plenty of balls. Space is limited to 16 people\, so if you are interested in coming let me know ASAP.  \nAfterwards we can walk across the street and enjoy some pizza and drinks (BYOB) at Panatieri’s in the Fresh Market Shopping Center. \nDate:   Friday 10/3/25 \nTime:   Pickleball 5:30 pm – 7:30 (or dark) \nPizza 7:30 – ? \nCost:    Pickleball is free\, but we will split the cost of the pizzas. BYOB  \nBring:   Paddle & water. If you bring balls\, be sure to put your name/initials on them. \nRSVP: Text Gina at 908-240-8715. Provide your name\, level of play Beginner\, Intermediate\, or Advanced and note if you need a paddle. \n  \nA splendid time is guaranteed for all! \nDirections: Use the address 601 Timberbrooke Dr.\, Bedminster in your GPS and park in any spot on the internal square of the development.  The courts are behind unit 601. Any problem – call Gina 908-240-8715.  \n            \nRain cancels the event. Gina will text all by 5pm if the weather is iffy.
URL:https://morriscountyskiclub.com/event/pickleball-pizza/
LOCATION:601 Timberbrooke Dr.\, 601 Timberbrooke Dr.\, Bedminster\, NJ\, 07921\, United States
CATEGORIES:Other Fun Stuff
END:VEVENT
BEGIN:VEVENT
DTSTART;TZID=America/New_York:20251009T183000
DTEND;TZID=America/New_York:20251009T213000
DTSTAMP:20260423T075829
CREATED:20250919T115703Z
LAST-MODIFIED:20250919T141838Z
UID:3289-1760034600-1760045400@morriscountyskiclub.com
SUMMARY:October Remarkable Restaurant - Mauka
DESCRIPTION:Date: Thursday\, October 9th\nReservation Time: 6:30 pm                               \nLocation: 793 US 202 North\, Bridgewater\, NJ\n  \nEver wonder what to order at an Indian restaurant? Let Dina\, Eboo’s long suffering wife\, be your guide at Mauka!   \nMauka prepares real Indian food with bold\, rich flavors. From soft naan to creamy korma\, each dish is made fresh and delicious. \nAbout half the clientele are Indian. It is BYOB \nMauka has great reviews: \n“Food-wise\, everything was spot on. We started with the Fish Amritsari\, which was perfectly cooked\, and the Palak Aam Patta Chaat — crispy spinach with just the right texture and flavor. For mains\, we had the Lamb Saagwala and Fish Moiley. The lamb was incredibly tender and flavorful\, and the fish was moist and delicately prepared — no hint of overcooking. The naan was fresh\, hot\, and pillowy — just as it should be. Highly recommend Mauka for anyone looking for high-quality Indian cuisine in a relaxed\, well-designed space with top-tier service.” \n\nHere are the details:  \n–          Small group! We have a reservation for 8\, but we can accommodate 16\n–          BYOB \n–          Family appetizer platter: $23\, Butter Naan: $4 \n           Chicken Tikka: $19\, Apricot Lamb Korma: $25\, \n           Fish Moiley: $27 \nPlease confirm your spot by Thursday\, October 2\, 2025 by contacting: \nEboo Versi\nebooversi@gmail.com\n(908) 698-2390
URL:https://morriscountyskiclub.com/event/october-remarkable-restaurant-mauka/
LOCATION:Mauka\, 793 US 202 North\, Bridgewater\, New Jersey
CATEGORIES:Other Fun Stuff
END:VEVENT
BEGIN:VEVENT
DTSTART;TZID=America/New_York:20251025T100000
DTEND;TZID=America/New_York:20251025T150000
DTSTAMP:20260423T075829
CREATED:20251013T103818Z
LAST-MODIFIED:20251013T103818Z
UID:3331-1761386400-1761404400@morriscountyskiclub.com
SUMMARY:Hike Ramapo County Reservation
DESCRIPTION:Ramapo County Reservation\nMahwah\, NJ\nDate: Saturday\, October 25\, 2025\nTime: 10:00 AM\n  \nMeeting Location: 608 Ramapo Valley Road\, Mahwah NJ \nDifficulty: Moderate  \nHike distance: 5 to 6 miles \nTime: About 3.5 hours to 4 hours \n  \nDescription: A moderate 5-to-6-mile hike in Ramapo County reservation. There is a significant climb early in the hike and a more moderate climb around the midway point. The hike will visit the 4 viewpoints on the Vista trail and pass by a waterfall towards the end of the hike. \n  \nImportant Notes for the hike: \n  \n\nHiking boots are recommended.\nDaypack to carry extra clothing\, sufficient water and your snack.\nBring Insect repellent.  \nThere are porta-a-pottys at the hike location.  There are also indoor restrooms which are usually open. \nThis is a county park so it will not be impacted by the Federal shut down\nThe visitor’s center is about a 35-minute ride from the VFW meeting location.\nAfter the hike we may go to a nearby bar and grill.\n\n  \nFor more information\, please contact Paul Van Duyne C (201) 470-9317. \nEmail:  p_vanduyne@yahoo.com.  Advanced sign up by e-mail is not required is appreciated.   \nYou can also sign-up on the Meet-up site. \nTo contact Paul the day of the hike with any other questions (201) 470-9317. 
URL:https://morriscountyskiclub.com/event/hike-ramapo-county-reservation/
LOCATION:Ramapo  County Reservation\, 608 Ramapo Valley Rd\, Mawah\, NJ\, United States
CATEGORIES:Other Fun Stuff
ORGANIZER;CN="Paul Van Duyne":MAILTO:p_vanduyne@yahoo.com
END:VEVENT
BEGIN:VEVENT
DTSTART;TZID=America/New_York:20251031T190000
DTEND;TZID=America/New_York:20251101T010000
DTSTAMP:20260423T075829
CREATED:20251012T212216Z
LAST-MODIFIED:20251013T210843Z
UID:3322-1761937200-1761958800@morriscountyskiclub.com
SUMMARY:Christian Lopez's Halloween Special at the Ross Farm - Non Club Sponsored Event
DESCRIPTION:This is a NON CLUB SPONSORED event. But rumor has it that several MCSC folks will be attending. So if you are interested\, click on the link below for more information. \n  \n \nhttps://www.eventbrite.com/e/christian-lopezs-halloween-special-at-the-ross-farm-tickets-1482126663749?aff=oddtdtcreator \n  \n 
URL:https://morriscountyskiclub.com/event/christian-lopezs-halloween-special-at-the-ross-farm-non-club-sponsored-event/
LOCATION:Ross Farm\, 135 N Maple Ave\, Basking Ridge\, NJ\, 07920
CATEGORIES:Other Fun Stuff
END:VEVENT
END:VCALENDAR