BEGIN:VCALENDAR
VERSION:2.0
PRODID:-//Morris County Ski Club - ECPv6.15.20//NONSGML v1.0//EN
CALSCALE:GREGORIAN
METHOD:PUBLISH
X-WR-CALNAME:Morris County Ski Club
X-ORIGINAL-URL:https://morriscountyskiclub.com
X-WR-CALDESC:Events for Morris County Ski Club
REFRESH-INTERVAL;VALUE=DURATION:PT1H
X-Robots-Tag:noindex
X-PUBLISHED-TTL:PT1H
BEGIN:VTIMEZONE
TZID:America/New_York
BEGIN:DAYLIGHT
TZOFFSETFROM:-0500
TZOFFSETTO:-0400
TZNAME:EDT
DTSTART:20230312T070000
END:DAYLIGHT
BEGIN:STANDARD
TZOFFSETFROM:-0400
TZOFFSETTO:-0500
TZNAME:EST
DTSTART:20231105T060000
END:STANDARD
BEGIN:DAYLIGHT
TZOFFSETFROM:-0500
TZOFFSETTO:-0400
TZNAME:EDT
DTSTART:20240310T070000
END:DAYLIGHT
BEGIN:STANDARD
TZOFFSETFROM:-0400
TZOFFSETTO:-0500
TZNAME:EST
DTSTART:20241103T060000
END:STANDARD
BEGIN:DAYLIGHT
TZOFFSETFROM:-0500
TZOFFSETTO:-0400
TZNAME:EDT
DTSTART:20250309T070000
END:DAYLIGHT
BEGIN:STANDARD
TZOFFSETFROM:-0400
TZOFFSETTO:-0500
TZNAME:EST
DTSTART:20251102T060000
END:STANDARD
END:VTIMEZONE
BEGIN:VEVENT
DTSTART;TZID=America/New_York:20241026T093000
DTEND;TZID=America/New_York:20241026T150000
DTSTAMP:20260424T032809
CREATED:20240920T234105Z
LAST-MODIFIED:20240922T214205Z
UID:2563-1729935000-1729954800@morriscountyskiclub.com
SUMMARY:Sterling Forest/Bare Rock Hike
DESCRIPTION:Morris County Ski Club Hike            Sterling Forest/Bare Rock Tuxedo\, NY\nDate:  Saturday\, October 26\, 2024\nTime:  9:30 AM\nMeeting Location:  Sterling Forest Visitor Area \nDifficulty:  Moderate/Strenuous  \nHike distance: About 8 miles \nTime: About 4.5 hours \n  \nDescription: Join the Morris Ski Club on a moderate/strenuous hike in the Sterling Forest of New York.    First we will visit the remnants of an old iron mine and furnace.  After a few miles we will arrive at Bare Rock which offers a fantastic view of Greenwood Lake including the parts where we have gone paddle boarding.  We will then continue the hike with a climb involving some minor rock scrambling to the Sterling Forest Fire Tower for some additional views.  We will finish off the day by going to a nearby bar and grill (probably Rhodes North). \nImportant Notes for the hike: \n\nHiking boots are highly recommended as the trails are rocky in spots and can be muddy\nDaypack to carry extra clothing\, sufficient water and your snack or lunch.  \nBare Rock and the Fire Tower are great for photos.\nRestroom facilities are located inside the visitor’s center.\nGPS Coordinates: 41.19787\,-74.256125.\nCell Phone reception can be spotty at the visitor’s center\n\n  \nDirections to the hike location from Morristown: \n\nTake I-287 North – merging briefly onto the NYS Thruway (toward Albany) but \n\nimmediately exiting at 15A onto Rte 17 North  \n\nTurn left at the bottom of the ramp onto Route 17 and head north for 1.4 miles to the exit for Sterling Forest.\nFollow Sterling Mine Road (County Route 72) west for 3.0 miles.\nAt the traffic light\, turn right onto Long Meadow Road (County Route 84).\nTake Long Meadow Road past IBM for a total of 3.5 miles.\nTurn left onto Old Forge Road\nAfter 0.3 mile make a right and continue on Old Forge Road.\nParking lot will be on the right.  The Visitor’s Center is a short walk from the parking lot.\n\n  \nFor additional directions enter Sterling Forest Visitor’s Center.  \n  \nFor more information please contact Paul Van Duyne C (201) 470-9317. \nEmail:  p_vanduyne@yahoo.com.  Advanced sign up by e-mail is not required but is appreciated.   \nTo contact Paul the day of the hike with any other questions (201) 470-9317.  After 9 AM you may also have to try the Visitors Center (1-845-351-5907) due to poor cell phone reception. 
URL:https://morriscountyskiclub.com/event/sterling-forest-bare-rock-hike/
LOCATION:Sterling Forest\, 116 Old Forge Rd\, Tuxedo Park\, NY\, 10987
CATEGORIES:Other Fun Stuff
ORGANIZER;CN="Paul Van Duyne":MAILTO:p_vanduyne@yahoo.com
END:VEVENT
END:VCALENDAR