BEGIN:VCALENDAR
VERSION:2.0
PRODID:-//Morris County Ski Club - ECPv6.15.20//NONSGML v1.0//EN
CALSCALE:GREGORIAN
METHOD:PUBLISH
X-WR-CALNAME:Morris County Ski Club
X-ORIGINAL-URL:https://morriscountyskiclub.com
X-WR-CALDESC:Events for Morris County Ski Club
REFRESH-INTERVAL;VALUE=DURATION:PT1H
X-Robots-Tag:noindex
X-PUBLISHED-TTL:PT1H
BEGIN:VTIMEZONE
TZID:America/New_York
BEGIN:DAYLIGHT
TZOFFSETFROM:-0500
TZOFFSETTO:-0400
TZNAME:EDT
DTSTART:20230312T070000
END:DAYLIGHT
BEGIN:STANDARD
TZOFFSETFROM:-0400
TZOFFSETTO:-0500
TZNAME:EST
DTSTART:20231105T060000
END:STANDARD
BEGIN:DAYLIGHT
TZOFFSETFROM:-0500
TZOFFSETTO:-0400
TZNAME:EDT
DTSTART:20240310T070000
END:DAYLIGHT
BEGIN:STANDARD
TZOFFSETFROM:-0400
TZOFFSETTO:-0500
TZNAME:EST
DTSTART:20241103T060000
END:STANDARD
BEGIN:DAYLIGHT
TZOFFSETFROM:-0500
TZOFFSETTO:-0400
TZNAME:EDT
DTSTART:20250309T070000
END:DAYLIGHT
BEGIN:STANDARD
TZOFFSETFROM:-0400
TZOFFSETTO:-0500
TZNAME:EST
DTSTART:20251102T060000
END:STANDARD
END:VTIMEZONE
BEGIN:VEVENT
DTSTART;TZID=America/New_York:20241113T183000
DTEND;TZID=America/New_York:20241113T210000
DTSTAMP:20260424T020125
CREATED:20240928T232635Z
LAST-MODIFIED:20241115T162514Z
UID:2653-1731522600-1731531600@morriscountyskiclub.com
SUMMARY:** SOLD OUT** Remarkable Restaurants - Cafe Sapori\, Morristown
DESCRIPTION:Enjoy modern Italian cuisine at Café Sapori’s beautiful new location at 995 Mt Kemble Ave\, Morristown\, NJ.  The menu focuses on wonderful dishes that take advantage of fresh seasonal products.    \nwww.saporicafe.com \nHere are the details:  \n–          Small group! We have a reservation for 10\n–          BYOB \n–          Appetizers about $15\, pasta dishes about $25 and main dishes $25 – 35.        \nPlease confirm your spot by Monday\, November 11\, by contacting: \nRob Geraghty \nRobert.j.geraghty@gmail.com \n908-581-8285
URL:https://morriscountyskiclub.com/event/remarkable-restaurants-cafe-sapori-morristown/
LOCATION:NJ
CATEGORIES:Other Fun Stuff
ORGANIZER;CN="Rob Geraghty":MAILTO:Robert.j.geraghty@gmail.com
END:VEVENT
END:VCALENDAR