BEGIN:VCALENDAR
VERSION:2.0
PRODID:-//Morris County Ski Club - ECPv6.15.20//NONSGML v1.0//EN
CALSCALE:GREGORIAN
METHOD:PUBLISH
X-WR-CALNAME:Morris County Ski Club
X-ORIGINAL-URL:https://morriscountyskiclub.com
X-WR-CALDESC:Events for Morris County Ski Club
REFRESH-INTERVAL;VALUE=DURATION:PT1H
X-Robots-Tag:noindex
X-PUBLISHED-TTL:PT1H
BEGIN:VTIMEZONE
TZID:America/New_York
BEGIN:DAYLIGHT
TZOFFSETFROM:-0500
TZOFFSETTO:-0400
TZNAME:EDT
DTSTART:20230312T070000
END:DAYLIGHT
BEGIN:STANDARD
TZOFFSETFROM:-0400
TZOFFSETTO:-0500
TZNAME:EST
DTSTART:20231105T060000
END:STANDARD
BEGIN:DAYLIGHT
TZOFFSETFROM:-0500
TZOFFSETTO:-0400
TZNAME:EDT
DTSTART:20240310T070000
END:DAYLIGHT
BEGIN:STANDARD
TZOFFSETFROM:-0400
TZOFFSETTO:-0500
TZNAME:EST
DTSTART:20241103T060000
END:STANDARD
BEGIN:DAYLIGHT
TZOFFSETFROM:-0500
TZOFFSETTO:-0400
TZNAME:EDT
DTSTART:20250309T070000
END:DAYLIGHT
BEGIN:STANDARD
TZOFFSETFROM:-0400
TZOFFSETTO:-0500
TZNAME:EST
DTSTART:20251102T060000
END:STANDARD
END:VTIMEZONE
BEGIN:VEVENT
DTSTART;TZID=America/New_York:20241213T190000
DTEND;TZID=America/New_York:20241213T220000
DTSTAMP:20260424T003451
CREATED:20241203T024113Z
LAST-MODIFIED:20241204T194808Z
UID:2870-1734116400-1734127200@morriscountyskiclub.com
SUMMARY:Mid-Life Crisis at Double Tap Brewery in Whippany\, NJ
DESCRIPTION:Come join MCSC for a fun night of great tunes\, dancing and tasty beers!  Double Tap Brewery offers a variety of ales\, porters\, IPAs and stouts with quirky names. Try a “Camper Down by the River” IPA\, or the spicy “Resting Grinch Face”.  How about “Come to the Craft Side” lager or “Boo-Yah” chocolate Peanut Butter Porter?  \nThe Empanada Guy Food Truck will be there serving empanadas\, specialty sandwiches\, and sides. \nMid-Life Crisis is a fun local NJ cover band playing all of your Baby Boomer favorites and more. The band goes on at 7:00\, but it’s best to arrive earlier. 6:00\, 6:30??? Grab a table\, a beer\, an empanada\, and settle in for a fun night. \nDouble Tap Brewery \n50 Whippany Rd. \nWhippany\, NJ 07981 \nThe brewery is not far from Routes 287 and 10. \nContact Nancy McLaughlin  \n908-303-1118 or nmclaughlin71@gmail.com \nFor more info and directions: \n973-240-7506 \nor \ndoubletapbeer.com
URL:https://morriscountyskiclub.com/event/mid-life-crisis-at-double-tap-brewery-in-whippany-nj/
LOCATION:Double Tap Brewery\, Whippany NJ\, 50 Whippany Rd.\, Whippany\, New Jersey\, 07981
CATEGORIES:Other Fun Stuff
END:VEVENT
END:VCALENDAR