BEGIN:VCALENDAR
VERSION:2.0
PRODID:-//Morris County Ski Club - ECPv6.15.20//NONSGML v1.0//EN
CALSCALE:GREGORIAN
METHOD:PUBLISH
X-ORIGINAL-URL:https://morriscountyskiclub.com
X-WR-CALDESC:Events for Morris County Ski Club
REFRESH-INTERVAL;VALUE=DURATION:PT1H
X-Robots-Tag:noindex
X-PUBLISHED-TTL:PT1H
BEGIN:VTIMEZONE
TZID:America/New_York
BEGIN:DAYLIGHT
TZOFFSETFROM:-0500
TZOFFSETTO:-0400
TZNAME:EDT
DTSTART:20230312T070000
END:DAYLIGHT
BEGIN:STANDARD
TZOFFSETFROM:-0400
TZOFFSETTO:-0500
TZNAME:EST
DTSTART:20231105T060000
END:STANDARD
BEGIN:DAYLIGHT
TZOFFSETFROM:-0500
TZOFFSETTO:-0400
TZNAME:EDT
DTSTART:20240310T070000
END:DAYLIGHT
BEGIN:STANDARD
TZOFFSETFROM:-0400
TZOFFSETTO:-0500
TZNAME:EST
DTSTART:20241103T060000
END:STANDARD
BEGIN:DAYLIGHT
TZOFFSETFROM:-0500
TZOFFSETTO:-0400
TZNAME:EDT
DTSTART:20250309T070000
END:DAYLIGHT
BEGIN:STANDARD
TZOFFSETFROM:-0400
TZOFFSETTO:-0500
TZNAME:EST
DTSTART:20251102T060000
END:STANDARD
END:VTIMEZONE
BEGIN:VEVENT
DTSTART;TZID=America/New_York:20241218T200000
DTEND;TZID=America/New_York:20241218T220000
DTSTAMP:20260424T003631
CREATED:20241124T125854Z
LAST-MODIFIED:20241211T101926Z
UID:2838-1734552000-1734559200@morriscountyskiclub.com
SUMMARY:Christmas Concert - Cathedral Basilica of the Sacred Heart\, Newark NJ
DESCRIPTION:CHRISTMAS CONCERT AT  \nCATHEDRAL BASILICA IN NEWARK \nPlease join MCSC as we venture to the Cathedral Basilica of the Sacred Heart in Newark for their 53rd annual Christmas concert/carol sing along on Wednesday 12/18 at 8 pm. The ambiance and seasonal decor\, along with the Cathedral choir\, organ\, instrumentalists and thousands of participants combine to create an event not to be missed. If you have never been to the Cathedral\, it is worth the trip. It was modeled after the famous Notre Dame in Paris and will be decorated with thousands of candles for the event. \nhttps://www.newarkbasilica.org/concert-series \nFor those interested in eating before the concert\, there will be a pay for your own dinner at the iconic Tops Diner in Newark at 5:45. After dinner\, we will carpool over to the cathedral (10 minutes) for the concert. After the concert we will return to Tops to pick up the cars\, or enjoy some dessert.                                                                        \nhttps://www.thetopsdiner.com/ \nDate:  Wednesday     12/18 \nTime:   Dinner  5:45  \n               Concert  8:00 \nCost:    Dinner – pay your own \nConcert – free but there is a free will offering  \nRSVP: Text Gina by 12/4 at 908-240-8715. Provide your name and specify if you plan to join for dinner so I can include you in the reservation.
URL:https://morriscountyskiclub.com/event/christmas-concert-cathedral-basilica-of-the-sacred-heart-newark-nj/
LOCATION:Cathedral Basilica of the Sacred Heart\, 89 Ridge St.\, Newark\, New Jersey\, 07104
CATEGORIES:Other Fun Stuff
END:VEVENT
END:VCALENDAR