BEGIN:VCALENDAR
VERSION:2.0
PRODID:-//Morris County Ski Club - ECPv6.15.20//NONSGML v1.0//EN
CALSCALE:GREGORIAN
METHOD:PUBLISH
X-ORIGINAL-URL:https://morriscountyskiclub.com
X-WR-CALDESC:Events for Morris County Ski Club
REFRESH-INTERVAL;VALUE=DURATION:PT1H
X-Robots-Tag:noindex
X-PUBLISHED-TTL:PT1H
BEGIN:VTIMEZONE
TZID:America/New_York
BEGIN:DAYLIGHT
TZOFFSETFROM:-0500
TZOFFSETTO:-0400
TZNAME:EDT
DTSTART:20240310T070000
END:DAYLIGHT
BEGIN:STANDARD
TZOFFSETFROM:-0400
TZOFFSETTO:-0500
TZNAME:EST
DTSTART:20241103T060000
END:STANDARD
BEGIN:DAYLIGHT
TZOFFSETFROM:-0500
TZOFFSETTO:-0400
TZNAME:EDT
DTSTART:20250309T070000
END:DAYLIGHT
BEGIN:STANDARD
TZOFFSETFROM:-0400
TZOFFSETTO:-0500
TZNAME:EST
DTSTART:20251102T060000
END:STANDARD
BEGIN:DAYLIGHT
TZOFFSETFROM:-0500
TZOFFSETTO:-0400
TZNAME:EDT
DTSTART:20260308T070000
END:DAYLIGHT
BEGIN:STANDARD
TZOFFSETFROM:-0400
TZOFFSETTO:-0500
TZNAME:EST
DTSTART:20261101T060000
END:STANDARD
END:VTIMEZONE
BEGIN:VEVENT
DTSTART;TZID=America/New_York:20250106T090000
DTEND;TZID=America/New_York:20250106T160000
DTSTAMP:20260423T232004
CREATED:20241230T235657Z
LAST-MODIFIED:20250115T155328Z
UID:2910-1736154000-1736179200@morriscountyskiclub.com
SUMMARY:Weekday Skiing at Montage  Mountain\, Monday January 6th\, 2025
DESCRIPTION:Get in some turns before your big trips this season!  Join us for a day of skiing at Montage Mountain near Scranton\, PA. Montage is a pleasant mountain with wide open trails and never seems to get crowded. Very easy to get to! \n\n 1 hour 40 minute drive from Morris Plains\, taking Route 80 West (the shortest route)\n$40 “Ski for All” tickets all day on Mondays\, Tuesdays\, and Wednesdays.  Purchase on-line prior to arrival.\n1000’ vertical\, 26 trails\n19% \n46% blue \n34%   or \n\n  \nTickets can be purchased online\, then pick up your RFID card inside.  Go to (->) the Montage Website -> Shop -> Ticket Selection -> Ski For All Special (Mon. to Weds.) \nMeet us in the main lodge between 9:00 and 9:30 am.  Go in the main lodge door\, go past the restrooms\, and there will be benches on the left just inside the door of the cafeteria. \nQuestions? Contact Montage Mountain 570-969-7669\, or info@montagemountainresorts.com  \nPlease sign up on the Morris County Ski Club Meet up page\, or contact the organizer\, Nancy McLaughlin\,  \n 908-303-1118 or nmclaughlin71@gmail.com Let me know if you will be joining us. \n*Participants are responsible for their own transportation and/or carpool. \nRain cancels.
URL:https://morriscountyskiclub.com/event/weekday-skiing-at-montage-mountain-monday-january-6th-2025/
LOCATION:Montage Mountain\, 1000 Montage Mountain Rd\, Scranton\, PA\, 18507
CATEGORIES:Other Fun Stuff
END:VEVENT
END:VCALENDAR