BEGIN:VCALENDAR
VERSION:2.0
PRODID:-//Morris County Ski Club - ECPv6.15.20//NONSGML v1.0//EN
CALSCALE:GREGORIAN
METHOD:PUBLISH
X-ORIGINAL-URL:https://morriscountyskiclub.com
X-WR-CALDESC:Events for Morris County Ski Club
REFRESH-INTERVAL;VALUE=DURATION:PT1H
X-Robots-Tag:noindex
X-PUBLISHED-TTL:PT1H
BEGIN:VTIMEZONE
TZID:America/New_York
BEGIN:DAYLIGHT
TZOFFSETFROM:-0500
TZOFFSETTO:-0400
TZNAME:EDT
DTSTART:20240310T070000
END:DAYLIGHT
BEGIN:STANDARD
TZOFFSETFROM:-0400
TZOFFSETTO:-0500
TZNAME:EST
DTSTART:20241103T060000
END:STANDARD
BEGIN:DAYLIGHT
TZOFFSETFROM:-0500
TZOFFSETTO:-0400
TZNAME:EDT
DTSTART:20250309T070000
END:DAYLIGHT
BEGIN:STANDARD
TZOFFSETFROM:-0400
TZOFFSETTO:-0500
TZNAME:EST
DTSTART:20251102T060000
END:STANDARD
BEGIN:DAYLIGHT
TZOFFSETFROM:-0500
TZOFFSETTO:-0400
TZNAME:EDT
DTSTART:20260308T070000
END:DAYLIGHT
BEGIN:STANDARD
TZOFFSETFROM:-0400
TZOFFSETTO:-0500
TZNAME:EST
DTSTART:20261101T060000
END:STANDARD
END:VTIMEZONE
BEGIN:VEVENT
DTSTART;TZID=America/New_York:20250608T133000
DTEND;TZID=America/New_York:20250608T170000
DTSTAMP:20260423T152449
CREATED:20250527T091126Z
LAST-MODIFIED:20250527T091126Z
UID:3063-1749389400-1749402000@morriscountyskiclub.com
SUMMARY:Burnt Mills Cider\, Sunday June 8th
DESCRIPTION:Come sit on the lawn and enjoy some of Burnt Mills delicious hard cider.\n\nWhere :  Burnt Mills Cider\,  3540 Rt 206N Bedminster\nWhen:    Sunday\, June 8th\nTime:      1:30 – ?\n\nBring:      lawn chair\, snack to share\, sunscreen\, water\, NO outside alcohol is permitted\n\nAngry Archie’s Food Truck will be there featuring lobster rolls\, crab cakes\, chicken sandwiches and more.\n\nRSVP to Kim Kennedy at kmkennedy318@gmail.com or 973-202-5589.\n \nI hope to see you there \n \nEvent will be cancelled for inclement weather.  
URL:https://morriscountyskiclub.com/event/burnt-mills-cider-sunday-june-8th/
LOCATION:Burnt Mills Cider\, 3540 Rt 206N\, Bedminster\, NJ\, 07921\, United States
CATEGORIES:Other Fun Stuff
END:VEVENT
END:VCALENDAR