BEGIN:VCALENDAR
VERSION:2.0
PRODID:-//Morris County Ski Club - ECPv6.15.20//NONSGML v1.0//EN
CALSCALE:GREGORIAN
METHOD:PUBLISH
X-ORIGINAL-URL:https://morriscountyskiclub.com
X-WR-CALDESC:Events for Morris County Ski Club
REFRESH-INTERVAL;VALUE=DURATION:PT1H
X-Robots-Tag:noindex
X-PUBLISHED-TTL:PT1H
BEGIN:VTIMEZONE
TZID:America/New_York
BEGIN:DAYLIGHT
TZOFFSETFROM:-0500
TZOFFSETTO:-0400
TZNAME:EDT
DTSTART:20240310T070000
END:DAYLIGHT
BEGIN:STANDARD
TZOFFSETFROM:-0400
TZOFFSETTO:-0500
TZNAME:EST
DTSTART:20241103T060000
END:STANDARD
BEGIN:DAYLIGHT
TZOFFSETFROM:-0500
TZOFFSETTO:-0400
TZNAME:EDT
DTSTART:20250309T070000
END:DAYLIGHT
BEGIN:STANDARD
TZOFFSETFROM:-0400
TZOFFSETTO:-0500
TZNAME:EST
DTSTART:20251102T060000
END:STANDARD
BEGIN:DAYLIGHT
TZOFFSETFROM:-0500
TZOFFSETTO:-0400
TZNAME:EDT
DTSTART:20260308T070000
END:DAYLIGHT
BEGIN:STANDARD
TZOFFSETFROM:-0400
TZOFFSETTO:-0500
TZNAME:EST
DTSTART:20261101T060000
END:STANDARD
END:VTIMEZONE
BEGIN:VEVENT
DTSTART;TZID=America/New_York:20250918T190000
DTEND;TZID=America/New_York:20250918T220000
DTSTAMP:20260423T105144
CREATED:20250701T224910Z
LAST-MODIFIED:20250731T193544Z
UID:3098-1758222000-1758232800@morriscountyskiclub.com
SUMMARY:** NEW NEW DATE ** Remarkable Restaurants\, The Address - Greek Restaurant in Morristown\, Thursday 9/18
DESCRIPTION:Date: Thursday\, September 18\, 2025\nReservation Time: 7:00 pm\nLocation: 20 South Street\, Morristown\, NJ (parking in public lots)\nFixed price dinner\, $69 pp\, approximately $88 with tax and tip\nBYOB \nJoin a small group of MCSC friends for a great Greek and Mediterranean meal at The Address Greek & Mediterranean Restaurant. \nHosted by George Demos\, this dinner is guaranteed to provide a dazzling food experience. (5 stars and great reviews!)\nOur group will have a fixed price menu including cold dip platters\, appetizers\, main course and dessert. You can enjoy tzatziki\, spanakopita\, braised lamb shank\, grilled salmon\, moussaka and many more delicious options. \nSample review: “The Address combines fantastic food impeccable service. Every dish was a delight\, and the warm welcoming environment made our evening truly special.” \nSign Up Required\nPlease confirm your spot by Friday\, August 29th by sending your name and phone number to George Demos @ 201-481-2161. George will use your contact information to send final information to all attendees. \nGroup size: minimum of 8 for the fixed price menu. Maximum 12. \nPS:\nWe are looking for club members to host dinner or luncheons at their favorite dining\nspot. If you are interested in hosting\, please
URL:https://morriscountyskiclub.com/event/remarkable-restaurants-the-address-greek-restaurant-in-morristown/
LOCATION:The Address\, 20 South Street\, Morristown\, NJ
CATEGORIES:Other Fun Stuff
END:VEVENT
END:VCALENDAR