BEGIN:VCALENDAR
VERSION:2.0
PRODID:-//Morris County Ski Club - ECPv6.15.20//NONSGML v1.0//EN
CALSCALE:GREGORIAN
METHOD:PUBLISH
X-ORIGINAL-URL:https://morriscountyskiclub.com
X-WR-CALDESC:Events for Morris County Ski Club
REFRESH-INTERVAL;VALUE=DURATION:PT1H
X-Robots-Tag:noindex
X-PUBLISHED-TTL:PT1H
BEGIN:VTIMEZONE
TZID:America/New_York
BEGIN:DAYLIGHT
TZOFFSETFROM:-0500
TZOFFSETTO:-0400
TZNAME:EDT
DTSTART:20240310T070000
END:DAYLIGHT
BEGIN:STANDARD
TZOFFSETFROM:-0400
TZOFFSETTO:-0500
TZNAME:EST
DTSTART:20241103T060000
END:STANDARD
BEGIN:DAYLIGHT
TZOFFSETFROM:-0500
TZOFFSETTO:-0400
TZNAME:EDT
DTSTART:20250309T070000
END:DAYLIGHT
BEGIN:STANDARD
TZOFFSETFROM:-0400
TZOFFSETTO:-0500
TZNAME:EST
DTSTART:20251102T060000
END:STANDARD
BEGIN:DAYLIGHT
TZOFFSETFROM:-0500
TZOFFSETTO:-0400
TZNAME:EDT
DTSTART:20260308T070000
END:DAYLIGHT
BEGIN:STANDARD
TZOFFSETFROM:-0400
TZOFFSETTO:-0500
TZNAME:EST
DTSTART:20261101T060000
END:STANDARD
END:VTIMEZONE
BEGIN:VEVENT
DTSTART;VALUE=DATE:20250927
DTEND;VALUE=DATE:20250929
DTSTAMP:20260423T092813
CREATED:20250815T020535Z
LAST-MODIFIED:20250815T020535Z
UID:3219-1758931200-1759103999@morriscountyskiclub.com
SUMMARY:HIKING WEEKEND AT THENDARA MOUNTAIN CLUB IN HARRIMAN STATE PARK 
DESCRIPTION:  \nJoin the Morris County Ski Club for a weekend retreat at the Thendara lodge in Harriman State Park on September 27 – 28\, 2025.   \nThendara is a social club where members and their guests enjoy hiking\, kayaking and swimming. The lodge is located near Lake Tiorati\, where members have access to a private swimming dock and a boathouse stocked with kayaks\, canoes\, paddles and life jackets. (Note: the swimming dock will most likely be closed for annual maintenance)   \nAccommodations: A rustic lodge with a main room\, surrounded by six bedrooms that accommodate up to 17 people\, with 2 – 4 single beds per room. There is a modern kitchen and two wash-up rooms in the lodge\, and an outhouse approximately 50 feet outside the lodge. A screened in bunkhouse and tent sites are available for those who would like to sleep in an outdoor setting. Mattresses and wool blankets are provided\, but please be sure to bring your own bedding/sleeping bag. The lodge has good filtered well water\, so bring a reusable water bottle.   \nSee https://thendaramountainclub.com/ for more details.  \nThendara is run by member volunteers. During hosted weekends meals are included\, and each weekend participant helps with 1 meal prep or clean-up.   \n  \nHappy hour appetizers are served around 6pm\, followed by dinner. Breakfast and a bagged lunch on Sunday are included.  \nBYOB – Bring your own alcohol. Please note any food restrictions/allergies in the RSVP. \nOptional Activity: We will organize a 3 – 5 mile hike\, which will start promptly at 12:30pm on Saturday. Feel free to arrive earlier to unpack before the hike. The entrance gate will be unlocked by 11:00 Saturday morning.  \nBring lunch / snack. RSVP to join the hike.  \nPayment: Approximately $45 – $50 (exact amount TBD)  \n$25 deposit due with RSVP. Venmo Linda @ 908-463-4972.  \n[NOTE: Deposit not refundable if you cancel on or after 9/21/25 to cover the cost of purchased food] Also\, bring $30 in cash to cover the balance of the actual weekend costs.   \nLimit: 10 MCSC overnight guests – first 10 to sign up  \nDirections:  \nThe camp is labeled T20 and situated on Seven Lakes Drive\, 1.8 miles north of the Kanawaukee Circle and 2.0 miles south of Tiorati Circle. For GPS: “1984 Seven Lakes Drive Southfields NY”   \nThe gate will be closed. Please note how it is secured and be sure to close it the same way behind you.  \nRSVP (+ any questions) to Linda Green: miaravda@yahoo.com  with **Name\, Deposit\, Hiking (Yes/No)\, dietary restrictions**
URL:https://morriscountyskiclub.com/event/hiking-weekend-at-thendara-mountain-club-in-harriman-state-park/
LOCATION:Thendara Mountain Club\, 1984 Seven Lakes Drive\, Southfields\, NY
CATEGORIES:Other Fun Stuff
ORGANIZER;CN="Linda Green":MAILTO:miaravda@yahoo.com
END:VEVENT
END:VCALENDAR