BEGIN:VCALENDAR
VERSION:2.0
PRODID:-//Morris County Ski Club - ECPv6.15.20//NONSGML v1.0//EN
CALSCALE:GREGORIAN
METHOD:PUBLISH
X-WR-CALNAME:Morris County Ski Club
X-ORIGINAL-URL:https://morriscountyskiclub.com
X-WR-CALDESC:Events for Morris County Ski Club
REFRESH-INTERVAL;VALUE=DURATION:PT1H
X-Robots-Tag:noindex
X-PUBLISHED-TTL:PT1H
BEGIN:VTIMEZONE
TZID:America/New_York
BEGIN:DAYLIGHT
TZOFFSETFROM:-0500
TZOFFSETTO:-0400
TZNAME:EDT
DTSTART:20240310T070000
END:DAYLIGHT
BEGIN:STANDARD
TZOFFSETFROM:-0400
TZOFFSETTO:-0500
TZNAME:EST
DTSTART:20241103T060000
END:STANDARD
BEGIN:DAYLIGHT
TZOFFSETFROM:-0500
TZOFFSETTO:-0400
TZNAME:EDT
DTSTART:20250309T070000
END:DAYLIGHT
BEGIN:STANDARD
TZOFFSETFROM:-0400
TZOFFSETTO:-0500
TZNAME:EST
DTSTART:20251102T060000
END:STANDARD
BEGIN:DAYLIGHT
TZOFFSETFROM:-0500
TZOFFSETTO:-0400
TZNAME:EDT
DTSTART:20260308T070000
END:DAYLIGHT
BEGIN:STANDARD
TZOFFSETFROM:-0400
TZOFFSETTO:-0500
TZNAME:EST
DTSTART:20261101T060000
END:STANDARD
END:VTIMEZONE
BEGIN:VEVENT
DTSTART;TZID=America/New_York:20251009T183000
DTEND;TZID=America/New_York:20251009T213000
DTSTAMP:20260423T092509
CREATED:20250919T115703Z
LAST-MODIFIED:20250919T141838Z
UID:3289-1760034600-1760045400@morriscountyskiclub.com
SUMMARY:October Remarkable Restaurant - Mauka
DESCRIPTION:Date: Thursday\, October 9th\nReservation Time: 6:30 pm                               \nLocation: 793 US 202 North\, Bridgewater\, NJ\n  \nEver wonder what to order at an Indian restaurant? Let Dina\, Eboo’s long suffering wife\, be your guide at Mauka!   \nMauka prepares real Indian food with bold\, rich flavors. From soft naan to creamy korma\, each dish is made fresh and delicious. \nAbout half the clientele are Indian. It is BYOB \nMauka has great reviews: \n“Food-wise\, everything was spot on. We started with the Fish Amritsari\, which was perfectly cooked\, and the Palak Aam Patta Chaat — crispy spinach with just the right texture and flavor. For mains\, we had the Lamb Saagwala and Fish Moiley. The lamb was incredibly tender and flavorful\, and the fish was moist and delicately prepared — no hint of overcooking. The naan was fresh\, hot\, and pillowy — just as it should be. Highly recommend Mauka for anyone looking for high-quality Indian cuisine in a relaxed\, well-designed space with top-tier service.” \n\nHere are the details:  \n–          Small group! We have a reservation for 8\, but we can accommodate 16\n–          BYOB \n–          Family appetizer platter: $23\, Butter Naan: $4 \n           Chicken Tikka: $19\, Apricot Lamb Korma: $25\, \n           Fish Moiley: $27 \nPlease confirm your spot by Thursday\, October 2\, 2025 by contacting: \nEboo Versi\nebooversi@gmail.com\n(908) 698-2390
URL:https://morriscountyskiclub.com/event/october-remarkable-restaurant-mauka/
LOCATION:Mauka\, 793 US 202 North\, Bridgewater\, New Jersey
CATEGORIES:Other Fun Stuff
END:VEVENT
END:VCALENDAR