BEGIN:VCALENDAR
VERSION:2.0
PRODID:-//Morris County Ski Club - ECPv6.15.20//NONSGML v1.0//EN
CALSCALE:GREGORIAN
METHOD:PUBLISH
X-ORIGINAL-URL:https://morriscountyskiclub.com
X-WR-CALDESC:Events for Morris County Ski Club
REFRESH-INTERVAL;VALUE=DURATION:PT1H
X-Robots-Tag:noindex
X-PUBLISHED-TTL:PT1H
BEGIN:VTIMEZONE
TZID:America/New_York
BEGIN:DAYLIGHT
TZOFFSETFROM:-0500
TZOFFSETTO:-0400
TZNAME:EDT
DTSTART:20240310T070000
END:DAYLIGHT
BEGIN:STANDARD
TZOFFSETFROM:-0400
TZOFFSETTO:-0500
TZNAME:EST
DTSTART:20241103T060000
END:STANDARD
BEGIN:DAYLIGHT
TZOFFSETFROM:-0500
TZOFFSETTO:-0400
TZNAME:EDT
DTSTART:20250309T070000
END:DAYLIGHT
BEGIN:STANDARD
TZOFFSETFROM:-0400
TZOFFSETTO:-0500
TZNAME:EST
DTSTART:20251102T060000
END:STANDARD
BEGIN:DAYLIGHT
TZOFFSETFROM:-0500
TZOFFSETTO:-0400
TZNAME:EDT
DTSTART:20260308T070000
END:DAYLIGHT
BEGIN:STANDARD
TZOFFSETFROM:-0400
TZOFFSETTO:-0500
TZNAME:EST
DTSTART:20261101T060000
END:STANDARD
END:VTIMEZONE
BEGIN:VEVENT
DTSTART;TZID=America/New_York:20251206T090000
DTEND;TZID=America/New_York:20251206T160000
DTSTAMP:20260423T062812
CREATED:20251122T102233Z
LAST-MODIFIED:20251123T032507Z
UID:3414-1765011600-1765036800@morriscountyskiclub.com
SUMMARY:Bell Ringing for The Salvation Army
DESCRIPTION:  \nLet’s continue a much beloved annual Morris County Ski Club tradition – – bell ringing for The Salvation Army! \nPut on your thermals\, hats\, scarves\, gloves\, toe warmers\, etc.\, and bring\nyour holiday spirit! \nContact Tim Burt at skiraytb@yahoo.com or 612-963-0185 to sign-up for a one-hour time slot. \nYou never know what kind of fun antics our bell ringers might be up to\, so stop by and visit if you can! We will have holiday hats and noise makers to add to the antics \nDecember 6\, 2024 \n9am – 4 pm \nStop & Shop \n245 Littleton Rd\, Morris Plains\, NJ\n(@ the intersection with Route 10 E/B; diagonally across the road from Tommy’s Tavern). \n 
URL:https://morriscountyskiclub.com/event/bell-ringing-for-the-salvation-army/
LOCATION:Stop & Shop\, 245 Littleton Rd\, Morris Plains\, NJ
CATEGORIES:Other Fun Stuff
END:VEVENT
END:VCALENDAR