BEGIN:VCALENDAR
VERSION:2.0
PRODID:-//Morris County Ski Club - ECPv6.15.20//NONSGML v1.0//EN
CALSCALE:GREGORIAN
METHOD:PUBLISH
X-ORIGINAL-URL:https://morriscountyskiclub.com
X-WR-CALDESC:Events for Morris County Ski Club
REFRESH-INTERVAL;VALUE=DURATION:PT1H
X-Robots-Tag:noindex
X-PUBLISHED-TTL:PT1H
BEGIN:VTIMEZONE
TZID:America/New_York
BEGIN:DAYLIGHT
TZOFFSETFROM:-0500
TZOFFSETTO:-0400
TZNAME:EDT
DTSTART:20240310T070000
END:DAYLIGHT
BEGIN:STANDARD
TZOFFSETFROM:-0400
TZOFFSETTO:-0500
TZNAME:EST
DTSTART:20241103T060000
END:STANDARD
BEGIN:DAYLIGHT
TZOFFSETFROM:-0500
TZOFFSETTO:-0400
TZNAME:EDT
DTSTART:20250309T070000
END:DAYLIGHT
BEGIN:STANDARD
TZOFFSETFROM:-0400
TZOFFSETTO:-0500
TZNAME:EST
DTSTART:20251102T060000
END:STANDARD
BEGIN:DAYLIGHT
TZOFFSETFROM:-0500
TZOFFSETTO:-0400
TZNAME:EDT
DTSTART:20260308T070000
END:DAYLIGHT
BEGIN:STANDARD
TZOFFSETFROM:-0400
TZOFFSETTO:-0500
TZNAME:EST
DTSTART:20261101T060000
END:STANDARD
END:VTIMEZONE
BEGIN:VEVENT
DTSTART;TZID=America/New_York:20251217T200000
DTEND;TZID=America/New_York:20251217T220000
DTSTAMP:20260423T062700
CREATED:20251119T015859Z
LAST-MODIFIED:20251119T015859Z
UID:3389-1766001600-1766008800@morriscountyskiclub.com
SUMMARY:CHRISTMAS CONCERT AT CATHEDRAL BASILICA IN NEWARK
DESCRIPTION:Please join MCSC as we venture to the Cathedral Basilica of the Sacred Heart in Newark for their 53rd annual Christmas concert/carol sing along on Wednesday 12/17 at 8 pm. \nThe ambiance and seasonal decor\, along with the Cathedral choir\, organ\, instrumentalists\, and thousands of participants\ncombine to create an event not to be missed. \nIf you have never been to the Cathedral\, it is worth the\ntrip. It was modeled after the famous Notre Dame in Paris and will be decorated with thousands of candles for the event. \nGeorge DeMarco will be leading this event. \nhttps://www.newarkbasilica.org/concert-series \nFor those interested in eating before the concert\, there will be a pay for your own dinner at the iconic Tops Diner in Newark at 5:45. After dinner\, we will carpool over to the cathedral (10 minutes) for the concert. After the concert we will return to Tops to pick up the cars and/or enjoy some dessert. \nhttps://www.thetopsdiner.com/ \nDate: Wednesday 12/17\nTime: Dinner 5:45\nConcert 8:00\nCost: Dinner – pay your own \nConcert – free but there is a free will offering \nRSVP:   Email George DeMarco by December 5 at ZOOMBAG5@YAHOO.COM\nProvide your name and cell phone number and specify if you plan to join for dinner so you can be included in the reservation.
URL:https://morriscountyskiclub.com/event/christmas-concert-at-cathedral-basilica-in-newark/
LOCATION:Cathedral Basilica of the Sacred Heart\, 89 Ridge St.\, Newark\, New Jersey\, 07104
CATEGORIES:Other Fun Stuff
END:VEVENT
END:VCALENDAR